BEGIN:VCALENDAR
VERSION:2.0
PRODID:-//jEvents 2.0 for Joomla//EN
CALSCALE:GREGORIAN
METHOD:PUBLISH
BEGIN:VEVENT
UID:a4aca13b5bb4948f38d33cc8d236b164
CATEGORIES:21. Bezirk
CREATED:20190205T122834
SUMMARY:Eltern Kind Cafe
LOCATION:littlesuns\, Donaufelderstrasse 102/2
DESCRIPTION:
CONTACT:www.littlesuns.at/06645274715/info@littlesuns.at
X-EXTRAINFO:[preis='700'][anmeldung='false']
DTSTAMP:20260423T152650
DTSTART:20190308T140000
DTEND:20190308T160000
SEQUENCE:0
TRANSP:OPAQUE
END:VEVENT
END:VCALENDAR