BEGIN:VCALENDAR
VERSION:2.0
PRODID:-//jEvents 2.0 for Joomla//EN
CALSCALE:GREGORIAN
METHOD:PUBLISH
BEGIN:VEVENT
UID:8a8e66913c6652c15921bf37349d4933
CATEGORIES:21. Bezirk
CREATED:20190205T122942
SUMMARY:Eltern Kind Cafe
LOCATION:littlesuns\, Donaufelderstrasse 102/2
DESCRIPTION:<p><a href="http://www.littlesuns.at">www.littlesuns.at</a></p>
CONTACT:www.littlesuns.at/06645274715/info@littlesuns.at
X-EXTRAINFO:[preis='700'][anmeldung='false']
DTSTAMP:20260425T122035
DTSTART:20190426T130000
DTEND:20190426T150000
SEQUENCE:0
TRANSP:OPAQUE
END:VEVENT
END:VCALENDAR