BEGIN:VCALENDAR
VERSION:2.0
PRODID:-//jEvents 2.0 for Joomla//EN
CALSCALE:GREGORIAN
METHOD:PUBLISH
BEGIN:VEVENT
UID:23f9080b426a7200183a3a38b2ce9ddf
CATEGORIES:21. Bezirk
CREATED:20190205T123041
SUMMARY:Eltern Kind Cafe
LOCATION:littlesuns\, Donaufelderstrasse 102/2
DESCRIPTION:<p><a href="http://www.littlesuns.at">www.littlesuns.at</a></p>
CONTACT:www.littlesuns.at/06645274715/info@littlesuns.at
X-EXTRAINFO:[preis='700'][anmeldung='false']
DTSTAMP:20260425T122028
DTSTART:20190517T130000
DTEND:20190517T150000
SEQUENCE:0
TRANSP:OPAQUE
END:VEVENT
END:VCALENDAR