BEGIN:VCALENDAR
VERSION:2.0
PRODID:-//jEvents 2.0 for Joomla//EN
CALSCALE:GREGORIAN
METHOD:PUBLISH
BEGIN:VEVENT
UID:1a6cffb5939c440d852e7ec405c3c0ce
CATEGORIES:21. Bezirk
CREATED:20190205T123436
SUMMARY:Muttertagsfrühstück
LOCATION:littlesuns\, Donaufelderstrasse 102/2
DESCRIPTION:www.littlesuns.at (http://www.littlesuns.at)\n
X-ALT-DESC;FMTTYPE=text/html:<p><a href="http://www.littlesuns.at">www.littlesuns.at</a></p>
CONTACT:www.littlesuns.at/06645274715/info@littlesuns.at
X-EXTRAINFO:[preis='1000'][anmeldung='true']
DTSTAMP:20260423T152817
DTSTART:20190511T080000
DTEND:20190511T100000
SEQUENCE:0
TRANSP:OPAQUE
END:VEVENT
END:VCALENDAR