BEGIN:VCALENDAR
VERSION:2.0
PRODID:-//jEvents 2.0 for Joomla//EN
CALSCALE:GREGORIAN
METHOD:PUBLISH
BEGIN:VEVENT
UID:d682554e66c09ae5be66bcd9bd122156
CATEGORIES:21. Bezirk
CREATED:20190205T123546
SUMMARY:Osterfrühstück
LOCATION:littlesuns\, Donaufelderstrasse 102/2
DESCRIPTION:www.littlesuns.at (http://www.littlesuns.at)\n
X-ALT-DESC;FMTTYPE=text/html:<p><a href="http://www.littlesuns.at">www.littlesuns.at</a></p>
CONTACT:www.littlesuns.at/06645274715/info@littlesuns.at
X-EXTRAINFO:[preis='1000'][anmeldung='true']
DTSTAMP:20260425T152734
DTSTART:20190413T080000
DTEND:20190413T100000
SEQUENCE:0
TRANSP:OPAQUE
END:VEVENT
END:VCALENDAR