BEGIN:VCALENDAR
VERSION:2.0
PRODID:-//jEvents 2.0 for Joomla//EN
CALSCALE:GREGORIAN
METHOD:PUBLISH
BEGIN:VEVENT
UID:75e1a0af5a90bf96f860a05fc9204c08
CATEGORIES:21. Bezirk
CREATED:19700101T010000
SUMMARY:Babymassage(im Littlesuns')
LOCATION:littlesuns\, Donaufelderstrasse 102/2
DESCRIPTION:<p><a href="http://www.littlesuns.at">www.littlesuns.at</a></p>
CONTACT:www.littlesuns.at/06645274715/info@littlesuns.at
X-EXTRAINFO:[preis='8000'][anmeldung='true']
DTSTAMP:20260423T155448
DTSTART:20190306T100000
DTEND:20190306T104500
SEQUENCE:0
RRULE:FREQ=WEEKLY;COUNT=3;INTERVAL=1;BYDAY=WE
TRANSP:OPAQUE
END:VEVENT
END:VCALENDAR