BEGIN:VCALENDAR
VERSION:2.0
PRODID:-//jEvents 2.0 for Joomla//EN
CALSCALE:GREGORIAN
METHOD:PUBLISH
BEGIN:VEVENT
UID:b405a79baef41c268f31e74086e0fd65
CATEGORIES:15. Bezirk
CREATED:20190205T215217
SUMMARY:WINTER-TANZ-TAGE
LOCATION:Neubaugürtel 7
DESCRIPTION:…mitten in den kalten, grauen Tagen vergnügt miteinander  tanzen und spiele
 n: mit Rasseln, kleinen Autos und bunten Bällen, …Tücher schwingen, über gr
 oße Bälle rollen,… Zehen wackeln und Finger krabbeln lassen, im großen Schw
 ungtuch sitzen und einen Einblick ins bunte KinderAtelier-Programm gewinnen
 .\n \nTanz und Spiel für Eltern und Kinder von 1 bis 3 Jahren\nMittwoch, 13
 . Februar, 10 bis 11´30 Uhr\nLeitung: Bitti Jurda\n
X-ALT-DESC;FMTTYPE=text/html:<p>…mitten in den kalten, grauen Tagen vergnügt miteinander  tanzen und spi
 elen: mit Rasseln, kleinen Autos und bunten Bällen, …Tücher schwingen, über
  große Bälle rollen,… Zehen wackeln und Finger krabbeln lassen, im großen S
 chwungtuch sitzen und einen Einblick ins bunte KinderAtelier-Programm gewin
 nen.</p><p> </p><p>Tanz und Spiel für Eltern und Kinder von 1 bis 3 Jahren<
 br />Mittwoch, 13. Februar, 10 bis 11´30 Uhr<br />Leitung: Bitti Jurda</p>
CONTACT:office@kinderatelier.at
X-EXTRAINFO:[preis='1300'][anmeldung='true']
DTSTAMP:20260425T170357
DTSTART:20190213T090000
DTEND:20190213T103000
SEQUENCE:0
TRANSP:OPAQUE
END:VEVENT
END:VCALENDAR