BEGIN:VCALENDAR
VERSION:2.0
PRODID:-//jEvents 2.0 for Joomla//EN
CALSCALE:GREGORIAN
METHOD:PUBLISH
BEGIN:VEVENT
UID:d3719aae0e9a229e044da3711288650d
CATEGORIES:15. Bezirk
CREATED:20190205T215538
SUMMARY:WINTER-TANZ-TAGE
LOCATION:Neubaugürtel 7
DESCRIPTION:…mitten in den kalten, grauen Tagen vergnügt miteinander tanzen und spielen
 : mit Rasseln, kleinen Autos und bunten Bällen, …Tücher schwingen, über gro
 ße Bälle rollen,… Zehen wackeln und Finger krabbeln lassen, im großen Schwu
 ngtuch sitzen und einen Einblick ins bunte KinderAtelier-Programm gewinnen.
 \n\n\nTanz und Spiel für Eltern und Kinder von 1 bis 3 Jahren\nFreitag, 15.
  Februar, 10 bis 11´30 Uhr\nLeitung: Susanna Garic\n
X-ALT-DESC;FMTTYPE=text/html:<p>…mitten in den kalten, grauen Tagen vergnügt miteinander tanzen und spie
 len: mit Rasseln, kleinen Autos und bunten Bällen, …Tücher schwingen, über 
 große Bälle rollen,… Zehen wackeln und Finger krabbeln lassen, im großen Sc
 hwungtuch sitzen und einen Einblick ins bunte KinderAtelier-Programm gewinn
 en.<br /><br /></p><p>Tanz und Spiel für Eltern und Kinder von 1 bis 3 Jahr
 en<br />Freitag, 15. Februar, 10 bis 11´30 Uhr<br />Leitung: Susanna Garic<
 /p>
CONTACT:office@kinderatelier.at
X-EXTRAINFO:[preis='1300'][anmeldung='true']
DTSTAMP:20260425T153811
DTSTART:20190215T090000
DTEND:20190215T103000
SEQUENCE:0
TRANSP:OPAQUE
END:VEVENT
END:VCALENDAR