BEGIN:VCALENDAR
VERSION:2.0
PRODID:-//jEvents 2.0 for Joomla//EN
CALSCALE:GREGORIAN
METHOD:PUBLISH
BEGIN:VEVENT
UID:24bb9c1cb640827e7ef4a053f959e7ce
CATEGORIES:15. Bezirk
CREATED:20190205T221450
SUMMARY:WINTER-TANZ-TAGE
LOCATION:Neubaugürtel 7
DESCRIPTION:…mitten in den kalten, grauen Tagen vergnügt miteinander  tanzen und hüpfen
 , trommeln und rasseln, mit bunten Bällen und Besen spielen, Tücher schwing
 en, über große Bälle rollen…und einen Einblick ins bunte KinderAtelier-Prog
 ramm gewinnen.\n\nTanz und Spiel für Eltern und Kinder von  1½ bis 3½   Jah
 ren\nMittwoch, 13. Februar, 15 bis 16´15 Uhr,\nLeitung: Bitti Jurda\n
X-ALT-DESC;FMTTYPE=text/html:<p>…mitten in den kalten, grauen Tagen vergnügt miteinander  tanzen und hüp
 fen, trommeln und rasseln, mit bunten Bällen und Besen spielen, Tücher schw
 ingen, über große Bälle rollen…und einen Einblick ins bunte KinderAtelier-P
 rogramm gewinnen.</p><p><br />Tanz und Spiel für Eltern und Kinder von  1½ 
 bis 3½   Jahren<br />Mittwoch, 13. Februar, 15 bis 16´15 Uhr,<br />Leitung:
  Bitti Jurda</p>
CONTACT:office@kinderatelier.at
X-EXTRAINFO:[preis='1300'][anmeldung='true']
DTSTAMP:20260425T152633
DTSTART:20190213T140000
DTEND:20190213T151500
SEQUENCE:0
TRANSP:OPAQUE
END:VEVENT
END:VCALENDAR