BEGIN:VCALENDAR
VERSION:2.0
PRODID:-//jEvents 2.0 for Joomla//EN
CALSCALE:GREGORIAN
METHOD:PUBLISH
BEGIN:VEVENT
UID:bf583d178f19d18871500948fd1a317a
CATEGORIES:15. Bezirk
CREATED:20190206T002240
SUMMARY:WINTER-MAL-TAGE
LOCATION:Löhrgasse 10
DESCRIPTION:…mitten in den kalten, grauen Tagen farbenfroh malen und klecksen, drucken 
 und stempeln, schneiden und kleben, Faschingshütchen basteln, Salzteig knet
 en, bunten Reis rieseln lassen,…und einen Einblick ins bunte KinderAtelier-
 Programm gewinnen.\n\nMalen und Gestalten für Eltern und Kinder von  1½ bis
  3½ Jahren\nDonnerstag, 14. Februar, 15´30 bis 17´30 Uhr\nLeitung: Ulli Buc
 hinger\n
X-ALT-DESC;FMTTYPE=text/html:<p>…mitten in den kalten, grauen Tagen farbenfroh malen und klecksen, druck
 en und stempeln, schneiden und kleben, Faschingshütchen basteln, Salzteig k
 neten, bunten Reis rieseln lassen,…und einen Einblick ins bunte KinderAteli
 er-Programm gewinnen.</p><p><br />Malen und Gestalten für Eltern und Kinder
  von  1½ bis 3½ Jahren<br />Donnerstag, 14. Februar, 15´30 bis 17´30 Uhr<br
  />Leitung: Ulli Buchinger</p>
CONTACT:office@kinderatelier.at
X-EXTRAINFO:[preis='2000'][anmeldung='true']
DTSTAMP:20260425T152734
DTSTART:20190214T143000
DTEND:20190214T163000
SEQUENCE:0
TRANSP:OPAQUE
END:VEVENT
END:VCALENDAR