BEGIN:VCALENDAR
VERSION:2.0
PRODID:-//jEvents 2.0 for Joomla//EN
CALSCALE:GREGORIAN
METHOD:PUBLISH
BEGIN:VEVENT
UID:78b127d8655c58a2aa653fdfd6bcaff4
CATEGORIES:19. Bezirk
CREATED:19700101T010000
SUMMARY:Frauen und Mütter – Schöpferinnen und Heldinnen des Alltags
LOCATION:Gesundheitszentrum am Sonnberg\, Obkirchergasse 3/12\, 3. Stock\, 1190 Wien
DESCRIPTION:<p><strong>Workshop mit mal- und gestaltungstherapeutischen Methoden</stron
 g></p><p>Es geht um Dich als Frau und/oder Mutter – mit all Deinen Wünschen
 , Sehnsüchten, Gedanken und Bedürfnissen</p><p><br />Eine kreative Auszeit 
 zum <br />....Entspannen, träumen, Kraft schöpfen, kreativ sein <br />....G
 eniessen und Leichtigkeit erleben<br />....Ideen und Visionen entwickeln<br
  />....einfach Du sein<br /><br />Es sind keine künstlerischen Erfahrungen 
 oder Kenntnisse erforderlich!<br /><br /></p><p>Wann:              ab 25. J
 änner 2019 jeden Montag von 9:30 bis 11:00 Uhr</p><p>                      
  (der Besuch einzelner Termine ist möglich)<br />Wo:                 im Ges
 undheitszentrum am Sonnberg</p><p>                       Obkirchergasse 3/1
 2, 3. Stock,  1190 Wien</p><p>Teilnehmerinnenanzahl: ab 2 Personen<br />Anm
 eldung und weitere Infos unter "ute@sinnbilder.eu" oder 0664-8416611</p><p>
 www.sinnbilder.eu</p><p> </p>
CONTACT:Ute Riedlmair 0664-8416611
X-EXTRAINFO:[preis='2500'][anmeldung='true']
DTSTAMP:20260424T145004
DTSTART:20190225T083000
DTEND:20190225T100000
SEQUENCE:0
RRULE:FREQ=WEEKLY;COUNT=9999;INTERVAL=1;BYDAY=MO
TRANSP:OPAQUE
END:VEVENT
END:VCALENDAR