BEGIN:VCALENDAR
VERSION:2.0
PRODID:-//jEvents 2.0 for Joomla//EN
CALSCALE:GREGORIAN
METHOD:PUBLISH
BEGIN:VEVENT
UID:1683445c22928facad8a44ce9a76da41
CATEGORIES:19. Bezirk
CREATED:20190207T002125
SUMMARY:Babymassagekurs - BABYandYOU
LOCATION:1190 Wien\, Sollingergasse 25/8 Babypoint19
DESCRIPTION:\nBabymassagekurs \n„Berührt, gestreichelt und massiert werden, \ndas ist N
 ahrung für das Kind. \nNahrung, die genauso wichtig ist, \nwie Mineralien, 
 Vitamine und Proteine. \nNahrung, die Liebe ist."\nFrédérik Leboyer\n \nDie
  Babymassage ist eine wunderbare Möglichkeit die tiefe Liebe und Verbundenh
 eit zum Ausdruck zu bringen, die wir für unsere kleinen Menschen empfinden.
  \nDie Haut als flächenmäßig größtes Organ mit ihren tausenden Sinneszellen
  saugt jede Berührung begierig auf und nährt das kleine Wesen auf vielfälti
 ge Art und Weise. \nDer Kurs verbindet das Erlernen der Massagetechnik mit 
 dem Austausch in der Gruppe. Natürlich bleibt auch immer genug Zeit, um per
 sönliche Fragen zu stellen. Er besteht aus drei Einheiten und findet in ein
 er kleinen Gruppe von 3-6 Teilnehmern statt.\n \nDauer: 3 Einheiten zu je 6
 0 Minuten\nOrt: Babypoint19, Sollingergasse 25/8, 1190 Wien\nKosten: € 90,-
  inklusive Skriptum und hochwertigem Massageöl\nAnmeldung: https://www.baby
 andyou.at/anmeldung-babymassage (https://www.babyandyou.at/anmeldung-babyma
 ssage)\n\n \n \nNatalie Groiss\nDiplomierte Gesundheits- und Krankenpfleger
 in \n(Kinder- und Jugendlichenpflege, Intensivpflege, Anästhesiepflege) \nI
 BCLC Still- und Laktationsberaterin \nTrageberaterin bei der Trageschule Ös
 terreich und Schweiz\nhttps://www.babyandyou.at/ (https://www.babyandyou.at
 /)\nnatalie.groiss@babyandyou.at (mailto:natalie.groiss@babyandyou.at)\n+43
  676 831 12 769\n
X-ALT-DESC;FMTTYPE=text/html:<p style="text-align: center;"></p><h1 class="font_0" style="font-size: 35p
 x; text-align: center;"><span class="color_20"><span style="text-shadow: 0p
 x 4px 5px rgba(0, 0, 0, 0.4);"><span style="font-size: 35px;"><span style="
 font-family: cinzel,serif;">Babymassagekurs</span></span></span></span></h1
 ><p> </p><p class="font_7" style="font-size: 18px; text-align: center;"><sp
 an style="font-size: 18px;"><span style="font-family: futura-lt-w01-light,s
 ans-serif;"><span style="font-style: italic;"><span class="color_20">„Berüh
 rt, gestreichelt und massiert werden, </span></span></span></span></p><p cl
 ass="font_7" style="font-size: 18px; text-align: center;"><span style="font
 -size: 18px;"><span style="font-family: futura-lt-w01-light,sans-serif;"><s
 pan style="font-style: italic;"><span class="color_20">das ist Nahrung für 
 das Kind. </span></span></span></span></p><p class="font_7" style="font-siz
 e: 18px; text-align: center;"><span style="font-size: 18px;"><span style="f
 ont-family: futura-lt-w01-light,sans-serif;"><span style="font-style: itali
 c;"><span class="color_20">Nahrung, die genauso wichtig ist, </span></span>
 </span></span></p><p class="font_7" style="font-size: 18px; text-align: cen
 ter;"><span style="font-size: 18px;"><span style="font-family: futura-lt-w0
 1-light,sans-serif;"><span style="font-style: italic;"><span class="color_2
 0">wie Mineralien, Vitamine und Proteine. </span></span></span></span></p><
 p class="font_7" style="font-size: 18px; text-align: center;"><span style="
 font-size: 18px;"><span style="font-family: futura-lt-w01-light,sans-serif;
 "><span style="font-style: italic;"><span class="color_20">Nahrung, die Lie
 be ist."</span></span></span></span></p><p style="text-align: center;"><spa
 n style="font-size: 18px;"><span style="font-family: futura-lt-w01-light,sa
 ns-serif;"><span class="color_20">Frédérik Leboyer</span></span></span></p>
 <p style="text-align: center;"> </p><p class="font_7" style="font-size: 18p
 x;"><span style="font-size: 18px;"><span style="font-family: futura-lt-w01-
 light,sans-serif;"><span class="color_20">Die Babymassage ist eine wunderba
 re Möglichkeit die tiefe Liebe und Verbundenheit zum Ausdruck zu bringen, d
 ie wir für unsere kleinen Menschen empfinden. </span></span></span></p><p c
 lass="font_7" style="font-size: 18px;"><span style="font-size: 18px;"><span
  style="font-family: futura-lt-w01-light,sans-serif;"><span class="color_20
 ">Die Haut als flächenmäßig größtes Organ mit ihren tausenden Sinneszellen 
 saugt jede Berührung begierig auf und nährt das kleine Wesen auf vielfältig
 e Art und Weise. </span></span></span></p><p class="font_7" style="font-siz
 e: 18px;"><span style="font-size: 18px;"><span style="font-family: futura-l
 t-w01-light,sans-serif;">Der Kurs verbindet das Erlernen der Massagetechnik
  mit dem Austausch in der Gruppe. Natürlich bleibt auch immer genug Zeit, u
 m persönliche Fragen zu stellen. Er besteht aus drei Einheiten und findet i
 n einer kleinen Gruppe von 3-6 Teilnehmern statt.</span></span></p><p class
 ="font_7" style="font-size: 18px;"> </p><p class="font_7" style="font-size:
  18px;"><span style="font-size: 18px;"><span style="font-family: futura-lt-
 w01-light,sans-serif;"><span style="font-weight: bold;">Dauer</span>: 3 Ein
 heiten zu je 60 Minuten</span></span></p><p class="font_7" style="font-size
 : 18px;"><span style="font-size: 18px;"><span style="font-family: futura-lt
 -w01-light,sans-serif;"><span style="font-weight: bold;">Ort</span>: Babypo
 int19<span style="font-weight: bold;">, </span>Sollingergasse 25/8, 1190 Wi
 en</span></span></p><p class="font_7"><span style="font-size: 18px;"><span 
 style="font-family: futura-lt-w01-light,sans-serif;"><span style="font-weig
 ht: bold;">Kosten</span>: € 90,- inklusive Skriptum und hochwertigem Massag
 eöl</span></span></p><p class="font_7"><span style="font-size: 18px;"><span
  style="font-family: futura-lt-w01-light,sans-serif;"><span class="wixGuard
 "><strong>Anmeldung:</strong> <a href="https://www.babyandyou.at/anmeldung-
 babymassage" target="_blank" rel="noopener noreferrer">https://www.babyandy
 ou.at/anmeldung-babymassage</a><br /></span></span></span></p><p class="fon
 t_7"> </p><p class="font_7"> </p><p class="font_7" style="font-size: 18px;"
 ><span style="font-size: 18px;"><span style="color: #594a49;"><span style="
 font-family: futura-lt-w01-light,sans-serif;">Natalie Groiss</span></span><
 /span></p><p class="font_7" style="font-size: 18px;"><span style="font-size
 : 18px;"><span style="color: #594a49;"><span style="font-family: futura-lt-
 w01-light,sans-serif;">Diplomierte Gesundheits- und Krankenpflegerin <br />
 (Kinder- und Jugendlichenpflege, Intensivpflege, Anästhesiepflege) <br />IB
 CLC Still- und Laktationsberaterin <br />Trageberaterin bei der Trageschule
  Österreich und Schweiz<br /><a href="https://www.babyandyou.at/" target="_
 blank" rel="noopener noreferrer">https://www.babyandyou.at/</a><br /><a hre
 f="mailto:natalie.groiss@babyandyou.at">natalie.groiss@babyandyou.at</a><br
  />+43 676 831 12 769</span></span></span></p>
CONTACT:https://www.babyandyou.at/
X-EXTRAINFO:[preis='9000'][anmeldung='true']
DTSTAMP:20260424T143130
DTSTART:20190910T070000
DTEND:20190910T080000
SEQUENCE:0
TRANSP:OPAQUE
END:VEVENT
END:VCALENDAR