BEGIN:VCALENDAR
VERSION:2.0
PRODID:-//jEvents 2.0 for Joomla//EN
CALSCALE:GREGORIAN
METHOD:PUBLISH
BEGIN:VEVENT
UID:f4d82b828bf3e9198a44684f7745d784
CATEGORIES:9. Bezirk
CREATED:20190208T143850
SUMMARY:Schwangerschaft und Mutterschaft Seminar - praktische und Rechtsfragen
LOCATION:Rienößlgasse 3/4\, 1040 Wien
DESCRIPTION:<div class="_4l8p _5dw9 _5dwa _4-u3"><div class="_3s3-"> </div></div><div c
 lass="_62hs _4-u3"><div class="_63es _63et"><div class="_63eu _63ev"><div c
 lass="_63ew" data-testid="event-permalink-details"><strong>Zielpersonen:</s
 trong> Schwangere, werdende und junge Mütter, Frauen, die eine Schwangersch
 aft planen und auch für alle jetzigen oder zukünftigen Väter, die sich notw
 endige und wichtige Informationen bezüglicher dieser wunderbaren Periode de
 s Lebens holen wollen.<br />Seminarziele: die Zielpersonen über die praktis
 chen und die rechtlichen Aspekte der Schwangerschaft und Mutterschaft aufzu
 klären und das Verwaltungsverfahren nach der Geburt zu erleichtern, damit d
 ie neue Familie sich nur auf das Wichtigste konzentrieren kann.</div><div c
 lass="_63ew" data-testid="event-permalink-details"> </div><div class="_63ew
 " data-testid="event-permalink-details"><strong>Folgende Themen werden disk
 utiert:</strong><br /><br />- Krankenversicherung und Ausgaben während der 
 Schwangerschaft<br />- obligatorische Untersuchungen während der Schwangers
 chaft und rechtliche Konsequenzen, die mit den Untersuchungen verbunden sin
 d<br />- Krankenhaus-, Hebammen- und Arztwahl<br />- Ausstellung der Geburt
 surkunde, Vaterschaftsanerkennung, Obsorge<br />- Karenz und Kinderbetreuun
 g, Elternteilzeit und andere arbeitsrechtliche Fragen<br />- Familienbeihil
 fe, Kinderbetreuungsgeld, Familienbonus+<br />- Kindergarten und andere Bet
 reuungsmöglichkeiten<br /><br />Anmeldung: projects@austria4beginners.at<br
  />Gebühr: 35,00 EUR<br /><br />Weitere Informationen können Sie unter <a h
 ref="http://www.austria4beginners.at/?page_id=149&amp;fbclid=IwAR2pnFxrPXXn
 0awRlvV6NzvoB-BN4NsG7ft12SjR9mu8j6QF796JeXPurJk" target="_blank" rel="nofol
 low noopener noreferrer" data-lynx-mode="hover" data-lynx-uri="https://l.fa
 cebook.com/l.php?u=http%3A%2F%2Fwww.austria4beginners.at%2F%3Fpage_id%3D149
 %26fbclid%3DIwAR2pnFxrPXXn0awRlvV6NzvoB-BN4NsG7ft12SjR9mu8j6QF796JeXPurJk&a
 mp;h=AT3mksQ6nGAW4yMt6WSsmvycwEOnq2Knf-FPzICx7EEneI2_NdZsCf7cwtqPDp9rjSyjrG
 pIQe3hq3ch34SUV1va_3pZd1chPs_74xJ7_O35b96SyoBr8T9_T4TE7DlXXw">http://www.au
 stria4beginners.at/?page_id=149</a> finden.</div></div></div></div>
CONTACT:+43 677 62912490 Mag. Severina Goranova
X-EXTRAINFO:[preis='3500'][anmeldung='true']
DTSTAMP:20260425T153218
DTSTART:20190302T090000
DTEND:20190302T130000
SEQUENCE:0
TRANSP:OPAQUE
END:VEVENT
END:VCALENDAR