BEGIN:VCALENDAR
VERSION:2.0
PRODID:-//jEvents 2.0 for Joomla//EN
CALSCALE:GREGORIAN
METHOD:PUBLISH
BEGIN:VEVENT
UID:d1611d417c6a7d262de01b82102f7fce
CATEGORIES:16. Bezirk
CREATED:19700101T010000
SUMMARY:Rückbildungsgymnastik
LOCATION:Körpergut\, Steinbruchstr. 6
DESCRIPTION:Mütter(frühestens ab der 3.-4. Woche nach natürlicher Geburt, frühestens ab
  der 6.-8. Woche nach Kaiserschnitt ) und Babys sind herzlich willkommen. D
 a gemütlich nur 6-8 Erwachsene Platz haben, wird um Anmeldung gebeten. (Jut
 ta Heinisch: 06509230411)\n
X-ALT-DESC;FMTTYPE=text/html:<p>Mütter(frühestens ab der 3.-4. Woche nach natürlicher Geburt, frühestens
  ab der 6.-8. Woche nach Kaiserschnitt ) und Babys sind herzlich willkommen
 . Da gemütlich nur 6-8 Erwachsene Platz haben, wird um Anmeldung gebeten. (
 Jutta Heinisch: 06509230411)</p>
CONTACT:Jutta Heinisch: 06509230411
DTSTAMP:20260425T134459
DTSTART:20190214T100000
DTEND:20190214T110000
SEQUENCE:0
RRULE:FREQ=WEEKLY;COUNT=9999;INTERVAL=1;BYDAY=TH,TH,TH,TH,TH
TRANSP:OPAQUE
END:VEVENT
END:VCALENDAR