BEGIN:VCALENDAR
VERSION:2.0
PRODID:-//jEvents 2.0 for Joomla//EN
CALSCALE:GREGORIAN
METHOD:PUBLISH
BEGIN:VEVENT
UID:4ba0ea2dd5642b089523308458f5ea60
CATEGORIES:4. Bezirk
CREATED:20190215T144900
SUMMARY:mamaFIT SURPRISE mit Simone im BELVEDERE: Outdoortraining f. Schwangere u. Mamas
LOCATION:Oberes Belvedere\,1040 Wien
DESCRIPTION:mamaFIT KURSINFOS\nBei dem Mix aus Ausdauer, Kraft, Koordination und Stretc
 hing liegt der Hauptfokus auf rückbildungsorientiertem Kraftworkout. Zwisch
 en den einzelnen Kräftigungsstationen können die Mamas entweder flott marsc
 hieren oder locker laufen, je nachdem wie alt das Baby und wie gut der Leis
 tungszustand ist.\n \nmamaFIT mit Simone-Kurse finden als gemischte Kurse s
 tatt, d.h. Schwangere, Jungmamas, sowie Mamas oder andere Begleitpersonen o
 hne Kinder trainieren alle in einem Kurs und bekommen nach Leistungszustand
  individuell abgewandelte Übungsvarianten.\n \n \nVERANSTALTUNGSORT u. -ZEI
 T\n10:00 – 11:00 Uhr     mamaFIT Surprise im BELVEDERE\n \nTreffpunkt Parke
 ingang oberes Belvedere, vor dem Teich\n \nKOMM EINFACH ZUM TREFFPUNKT UND 
 MACH MIT - OHNE VORANMELDUNG UND BINDUNG!\n \n \nDEINE VORTEILE \n\n - das 
 mamaFIT Kurssystem ist so flexibel, wie Mamas es brauchen\n - mamaFIT hält,
  was es verspricht – es macht dich als Mama wieder FIT!\n - Einsteigen ist 
 jederzeit möglich, ganz ohne Bindung und ohne Voranmeldung\n - Kurskarten (
 Einzel/ 5er Block/ 10er Block) sind übertragbar und flexibelbei ALLEN mamaF
 IT mit Simone-Kursen nutzbar\n - mamaFIT bringt dich wieder in Schwung, for
 mt deinen Körper und lässt deine Kilos purzeln\n - bei mamaFIT ist dir der 
 Spaß an der Bewegung in der Natur sicher\n - mamaFIT ist ein sicheres, erpr
 obtes Trainingskonzept nach den neuesten medizinischen und sportwissenschaf
 tlichen Erkenntnissen \nUm tagesaktuelle Infos (wetter-, krankheitsbedingte
  Absagen, Treffpunkte, …) nicht zu verpassen, empfehle ich dir meiner Whats
 App-Gruppe (https://chat.whatsapp.com/invite/8KOhJselM2DJuxCBpenqhL) beizut
 reten!\n \n \nMEINE TRAININGS IM ÜBERBLICK\nMo.      10:00 - 11:00 Uhr     
   Rudolf-Bednar-Park (U1 Vorgartenstraße)\n Mi.       10:00 - 11:00 Uhr    
    Donaupark (U1 Alte Donau)\n Do.      10:00 - 11:00 Uhr       mamaFIT Sur
 prise* (wechselnde Parks entlang der U1)\n Fr.        10:00 - 11:00 Uhr    
    Resselpark (U1 Karlsplatz)\n \n \n* u.a. Belvedere / Schweizer Garten / 
 Alois-Drasche-Park / Helmut-Zilk-Park / Alfred-Böhm-Park / Volkspark Laaerb
 erg / Kurpark Oberlaa, …\n \nmamaFIT mit Simone findet in Parks entlang der
  Linie U1 statt. Mamas ist es so einfach möglich, die verschiedenen Kursloc
 ations mit einer U-Bahn zu erreichen. Nach Verlassen der U-Bahn sind alle P
 arks innerhalb von etwa 15 min zu Fuß zu erreichen.  Hast du einen Wunschpa
 rk in der Nähe der U1, dann schreib mir ein Mail an simone.preiner@mamafit.
 at (mailto:simone.preiner@mamafit.at)  Mit ein wenig Glück kommt mamaFIT mi
 t Simone vielleicht auch zu dir!\n \n \nAktuelle Infos zu Kursänderungen, A
 bsagen, Urlauben, Erkrankung, etc. erhältst du immer umgehend per WhatsApp 
 (für die Aufnahme schick mir bitte eine persönliche WhatsApp an 0699/119 22
  530) oder in meiner Facebook-Gruppe (siehe Link unten).\n \nKOSTEN\nEinzel
 stunde à 14 €\n 5er Block à 60 €\n 10er Block à 110 €\nBarzahlung vor Ort, 
 Kurskarten sind ein Jahr gültig ab Ausstellung, übertragbar und bei allen m
 einer mamaFIT-Kurse einlösbar\n \nFÜR WEN\nMamas (frühestens 6-8 Wochen nac
 h der Geburt, bei Kaiserschnittgeburt etwa 12 Wochen nach der Geburt) und S
 chwangere, sowie alle, die sich gerne mit Mamas sportlich betätigen wollen 
 (Papas, Omas, Opas, Freunde, ...)\n \nSONSTIGES NÜTZLICHES\nDas Training fi
 ndet bei (fast) jedem Wetter ganzjährig outdoor statt. Bitte ziehe entsprec
 hende funktionelle Outdoorbekleidung an, nimm ein Getränk, Regen-/Sonnensch
 utz für dich und dein Baby bzw. Regencover für den Kinderwagen mit! Als Alt
 ernative zum Kinderwagen ist eine Tragehilfe ratsam (wechselst du während d
 er mamaFIT Einheit, biete ich dir einfach eine alternative Übung an). Hast 
 du keine Trage – kein Problem, ich habe meistens meine Tragen (Manduca, Erg
 obaby) zum ausborgen dabei. In der kälteren Jahreszeit empfehle ich eine Is
 omatte, Stoffwindel, Wickelunterlage, Yogadecke o.ä. zum unterlegen mitzune
 hmen. Eine Picknickdecke zum Jausnen nach dem Training ist für die wärmere 
 Jahreszeit ganz schön.\n \nwww.mamafit.at/trainer/simone-preiner (http://ww
 w.mamafit.at/trainer/simone-preiner)\nwww.facebook.com/groups/mamafitmitsim
 one (http://www.facebook.com/groups/mamafitmitsimone)\n \n
X-ALT-DESC;FMTTYPE=text/html:<p><strong>mamaFIT KURSINFOS</strong></p><p>Bei dem Mix aus Ausdauer, Kraft
 , Koordination und Stretching liegt der Hauptfokus auf rückbildungsorientie
 rtem Kraftworkout. Zwischen den einzelnen Kräftigungsstationen können die M
 amas entweder flott marschieren oder locker laufen, je nachdem wie alt das 
 Baby und wie gut der Leistungszustand ist.</p><p> </p><p>mamaFIT mit Simone
 -Kurse finden als gemischte Kurse statt, d.h. Schwangere, Jungmamas, sowie 
 Mamas oder andere Begleitpersonen ohne Kinder trainieren alle in einem Kurs
  und bekommen nach Leistungszustand individuell abgewandelte Übungsvariante
 n.</p><p> </p><p> </p><p><strong>VERANSTALTUNGSORT u. -ZEIT</strong></p><p>
 10:00 – 11:00 Uhr     mamaFIT Surprise im BELVEDERE</p><p> </p><p><strong>T
 reffpunkt</strong> Parkeingang oberes Belvedere, vor dem Teich</p><p> </p><
 p><strong>KOMM EINFACH ZUM TREFFPUNKT UND MACH MIT - OHNE VORANMELDUNG UND 
 BINDUNG!</strong></p><p> </p><p> </p><p><strong>DEINE VORTEILE </strong></p
 ><ul><li>das mamaFIT Kurssystem ist so <strong>flexibel</strong>, wie Mamas
  es brauchen</li><li>mamaFIT hält, was es verspricht – es <em>macht dich </
 em>als Mama wieder <em>FIT</em>!</li><li><strong>Einsteigen ist jederzeit m
 öglich</strong>, ganz ohne Bindung und ohne Voranmeldung</li><li><strong>Ku
 rskarten </strong>(Einzel/ 5er Block/ 10er Block) sind <strong>übertragbar 
 </strong>und <strong>flexibel</strong>bei ALLEN mamaFIT mit Simone-Kursen n
 utzbar</li><li>mamaFIT bringt dich wieder in Schwung, <strong>formt </stron
 g>deinen Körper und lässt deine <strong>Kilos purzeln</strong></li><li>bei 
 mamaFIT ist dir der Spaß an der <strong>Bewegung in der Natur </strong>sich
 er</li><li>mamaFIT ist ein <strong>sicheres</strong>, erprobtes <strong>Tra
 iningskonzept </strong>nach den neuesten medizinischen und sportwissenschaf
 tlichen Erkenntnissen</li></ul><p> </p><p>Um tagesaktuelle Infos (wetter-, 
 krankheitsbedingte Absagen, Treffpunkte, …) nicht zu verpassen, empfehle ic
 h dir meiner <strong><em><a href="https://chat.whatsapp.com/invite/8KOhJsel
 M2DJuxCBpenqhL">WhatsApp-Gruppe</a></em></strong> beizutreten!</p><p> </p><
 p> </p><p><strong>MEINE TRAININGS IM ÜBERBLICK</strong></p><p>Mo.      10:0
 0 - 11:00 Uhr       Rudolf-Bednar-Park (U1 Vorgartenstraße)<br /> Mi.      
  10:00 - 11:00 Uhr       Donaupark (U1 Alte Donau)<strong><br /> </strong>D
 o.      10:00 - 11:00 Uhr       mamaFIT Surprise* (wechselnde Parks entlang
  der U1)<br /> Fr.        10:00 - 11:00 Uhr       Resselpark (U1 Karlsplatz
 )</p><p> </p><p> </p><p>* u.a. Belvedere / Schweizer Garten / Alois-Drasche
 -Park / Helmut-Zilk-Park / Alfred-Böhm-Park / Volkspark Laaerberg / Kurpark
  Oberlaa, …</p><p> </p><p>mamaFIT mit Simone findet <strong>in Parks entlan
 g der Linie U1</strong> statt. Mamas ist es so einfach möglich, die verschi
 edenen Kurslocations mit einer U-Bahn zu erreichen. Nach Verlassen der U-Ba
 hn sind alle Parks innerhalb von etwa 15 min zu Fuß zu erreichen.  Hast du 
 einen Wunschpark in der Nähe der U1, dann schreib mir ein Mail an <a href="
 mailto:simone.preiner@mamafit.at">simone.preiner@mamafit.at</a>  Mit ein we
 nig Glück kommt mamaFIT mit Simone vielleicht auch zu dir!</p><p> </p><p> <
 /p><p><strong>Aktuelle Infos</strong> zu Kursänderungen, Absagen, Urlauben,
  Erkrankung, etc. erhältst du immer umgehend per WhatsApp (für die Aufnahme
  schick mir bitte eine persönliche WhatsApp an 0699/119 22 530) oder in mei
 ner Facebook-Gruppe (siehe Link unten).</p><p> </p><p><strong>KOSTEN</stron
 g></p><p>Einzelstunde à 14 €<br /> 5er Block à 60 €<br /> 10er Block à 110 
 €</p><p>Barzahlung vor Ort, Kurskarten sind ein Jahr gültig ab Ausstellung,
  übertragbar und bei allen meiner mamaFIT-Kurse einlösbar</p><p> </p><p><st
 rong>FÜR WEN</strong></p><p>Mamas (frühestens 6-8 Wochen nach der Geburt, b
 ei Kaiserschnittgeburt etwa 12 Wochen nach der Geburt) und Schwangere, sowi
 e alle, die sich gerne mit Mamas sportlich betätigen wollen (Papas, Omas, O
 pas, Freunde, ...)</p><p> </p><p><strong>SONSTIGES NÜTZLICHES</strong></p><
 p>Das Training findet bei (fast) jedem Wetter <strong>ganzjährig outdoor</s
 trong> statt. Bitte ziehe entsprechende funktionelle Outdoorbekleidung an, 
 nimm ein Getränk, Regen-/Sonnenschutz für dich und dein Baby bzw. Regencove
 r für den Kinderwagen mit! Als Alternative zum Kinderwagen ist eine Tragehi
 lfe ratsam (wechselst du während der mamaFIT Einheit, biete ich dir einfach
  eine alternative Übung an). Hast du keine Trage – kein Problem, ich habe m
 eistens meine Tragen (Manduca, Ergobaby) zum ausborgen dabei. In der kälter
 en Jahreszeit empfehle ich eine Isomatte, Stoffwindel, Wickelunterlage, Yog
 adecke o.ä. zum unterlegen mitzunehmen. Eine Picknickdecke zum Jausnen nach
  dem Training ist für die wärmere Jahreszeit ganz schön.</p><p> </p><p><a h
 ref="http://www.mamafit.at/trainer/simone-preiner">www.mamafit.at/trainer/s
 imone-preiner</a></p><p><a href="http://www.facebook.com/groups/mamafitmits
 imone">www.facebook.com/groups/mamafitmitsimone</a></p><p> </p>
CONTACT:Mag. Simone Preiner | +43 699 119 22 530 | simone.preiner@mamafit.at | http://www.mamafit.at/trainer/simone-preiner/ (http://www.mamafit.at/trainer/simone-preiner/)
X-EXTRAINFO:[preis='1100'][anmeldung='false']
DTSTAMP:20260425T103913
DTSTART:20190523T080000
DTEND:20190523T090000
SEQUENCE:0
TRANSP:OPAQUE
END:VEVENT
END:VCALENDAR