BEGIN:VCALENDAR
VERSION:2.0
PRODID:-//jEvents 2.0 for Joomla//EN
CALSCALE:GREGORIAN
METHOD:PUBLISH
BEGIN:VEVENT
UID:11c9fba6c236080ed8ea5440cb0c9a26
CATEGORIES:10. Bezirk
CREATED:19700101T010000
SUMMARY:BOok-Club - der beziehungsorientierte Buch-Club für Eltern
LOCATION:Dieselgasse 1\, 1100 Wien
DESCRIPTION:Herzlich Willkommen im BOok-Club - Beziehungsorientiert Lesen für Eltern. S
 chaut doch mal vorbei! Ein gemütliches Beisammensein, bei dem wir lesen, di
 skutieren und unseren Weg finden. Diese Woche lesen wir ein paar Seiten aus
  dem Buch "Keine Angst vor Babytränen" von Thomas Harms. Das Schreien eines
  Babys enthält eine Botschaft, aber für seine Eltern ist es eine große emot
 ionale Herausforderung! Warum weinen Babys und wie können wir Eltern die Ge
 fühle unserer Kinder sicher und erfolgreich regulieren? Das Buch beschreibt
 , wie wir die Bedürfnisse unserer Kinder verstehen und beantworten können. 
 Gemeinsam finden wir unseren Weg. Ihr könnt gerne auch eigene Bücher mitbri
 ngen und uns inspirieren Melde dich an unter auszeit@ausliebezudir.at\n (ma
 ilto:auszeit@ausliebezudir.at)oder 0677/620 818 54\n Ich freu mich auf dich
 !Marion
X-ALT-DESC;FMTTYPE=text/html:<div data-contents="true"><div class="" data-block="true" data-editor="8ert
 f" data-offset-key="a4mhk-0-0"><div class="_1mf _1mj" data-offset-key="a4mh
 k-0-0"><span data-offset-key="a4mhk-0-0">Herzlich Willkommen im BOok-Club -
  Beziehungsorientiert Lesen für Eltern.</span></div></div><div class="" dat
 a-block="true" data-editor="8ertf" data-offset-key="33bt5-0-0"><div class="
 _1mf _1mj" data-offset-key="33bt5-0-0"><span data-offset-key="33bt5-0-0"> S
 chaut doch mal vorbei! Ein gemütliches Beisammensein, bei dem wir lesen, di
 skutieren und unseren Weg finden.</span></div></div><div class="" data-bloc
 k="true" data-editor="8ertf" data-offset-key="bsnr6-0-0"><div class="_1mf _
 1mj" data-offset-key="bsnr6-0-0"><span data-offset-key="bsnr6-0-0"> </span>
 </div></div><div class="" data-block="true" data-editor="8ertf" data-offset
 -key="cdq8l-0-0"><div class="_1mf _1mj" data-offset-key="cdq8l-0-0"><span d
 ata-offset-key="cdq8l-0-0">Diese Woche lesen wir ein paar Seiten aus dem Bu
 ch "Keine Angst vor Babytränen" von Thomas Harms.</span></div></div><div cl
 ass="" data-block="true" data-editor="8ertf" data-offset-key="dtd0j-0-0"><d
 iv class="_1mf _1mj" data-offset-key="dtd0j-0-0"><span data-offset-key="dtd
 0j-0-0"> </span></div></div><div class="" data-block="true" data-editor="8e
 rtf" data-offset-key="cc4sd-0-0"><div class="_1mf _1mj" data-offset-key="cc
 4sd-0-0"><span data-offset-key="cc4sd-0-0">Das Schreien eines Babys enthält
  eine Botschaft, aber für seine Eltern ist es eine große emotionale Herausf
 orderung!</span></div></div><div class="" data-block="true" data-editor="8e
 rtf" data-offset-key="p9kb-0-0"><div class="_1mf _1mj" data-offset-key="p9k
 b-0-0"><span data-offset-key="p9kb-0-0"> </span></div></div><div class="" d
 ata-block="true" data-editor="8ertf" data-offset-key="9mf1m-0-0"><div class
 ="_1mf _1mj" data-offset-key="9mf1m-0-0"><span data-offset-key="9mf1m-0-0">
 Warum weinen Babys und wie können wir Eltern die Gefühle unserer Kinder sic
 her und erfolgreich regulieren?</span></div></div><div class="" data-block=
 "true" data-editor="8ertf" data-offset-key="dpnnq-0-0"><div class="_1mf _1m
 j" data-offset-key="dpnnq-0-0"><span data-offset-key="dpnnq-0-0"> </span></
 div></div><div class="" data-block="true" data-editor="8ertf" data-offset-k
 ey="17psv-0-0"><div class="_1mf _1mj" data-offset-key="17psv-0-0"><span dat
 a-offset-key="17psv-0-0">Das Buch beschreibt, wie wir die Bedürfnisse unser
 er Kinder verstehen und beantworten können.</span></div></div><div class=""
  data-block="true" data-editor="8ertf" data-offset-key="3rdv6-0-0"><div cla
 ss="_1mf _1mj" data-offset-key="3rdv6-0-0"><span data-offset-key="3rdv6-0-0
 "> </span></div></div><div class="" data-block="true" data-editor="8ertf" d
 ata-offset-key="7dd3p-0-0"><div class="_1mf _1mj" data-offset-key="7dd3p-0-
 0"><span data-offset-key="7dd3p-0-0">Gemeinsam finden wir unseren Weg. Ihr 
 könnt gerne auch eigene Bücher mitbringen und uns inspirieren</span></div><
 /div><div class="" data-block="true" data-editor="8ertf" data-offset-key="c
 qoum-0-0"><div class="_1mf _1mj" data-offset-key="cqoum-0-0"><span data-off
 set-key="cqoum-0-0"> </span></div></div><div class="" data-block="true" dat
 a-editor="8ertf" data-offset-key="fhcek-0-0"><div class="_1mf _1mj" data-of
 fset-key="fhcek-0-0"><span data-offset-key="fhcek-0-0">Melde dich an unter<
 /span></div><div class="_1mf _1mj" data-offset-key="fhcek-0-0"> </div><div 
 class="_1mf _1mj" data-offset-key="fhcek-0-0"><span data-offset-key="fhcek-
 0-0"><a href="mailto:auszeit@ausliebezudir.at">auszeit@ausliebezudir.at<br 
 /></a></span></div><div class="_1mf _1mj" data-offset-key="fhcek-0-0"><span
  data-offset-key="fhcek-0-0">oder 0677/620 818 54<br /></span></div><div cl
 ass="_1mf _1mj" data-offset-key="fhcek-0-0"> </div><div class="_1mf _1mj" d
 ata-offset-key="fhcek-0-0"><span data-offset-key="fhcek-0-0">Ich freu mich 
 auf dich!</span></div></div><div class="" data-block="true" data-editor="8e
 rtf" data-offset-key="cj7kn-0-0"><div class="_1mf _1mj" data-offset-key="cj
 7kn-0-0"><span data-offset-key="cj7kn-0-0">Marion</span></div></div></div>
CONTACT:Marion Fritz, auszeit@ausliebezudir.at, 0677/62081854
X-EXTRAINFO:[preis='1500'][anmeldung='true']
DTSTAMP:20260424T125022
DTSTART:20190222T090000
DTEND:20190222T120000
SEQUENCE:0
TRANSP:OPAQUE
END:VEVENT
END:VCALENDAR