BEGIN:VCALENDAR
VERSION:2.0
PRODID:-//jEvents 2.0 for Joomla//EN
CALSCALE:GREGORIAN
METHOD:PUBLISH
BEGIN:VEVENT
UID:0478a088e289154a72f937e5282b2bae
CATEGORIES:15. Bezirk
CREATED:20190218T113812
SUMMARY:SonntagsTanzen/-Malen: "Tupfen, Schlangen, wilde Muster"
LOCATION:Löhrgasse 10\, Neubaugürtel 7\, 1150 Wien
DESCRIPTION:WO Nr. 1 Sonntag, 24. Februar 2019 Sonntags-Tanzen/ -Malen :„PUNKTE / SCHLA
 NGEN/ WILDE MUSTER“ – zum Faschings-Ausklang\n \n... farbenfroh stempeln, k
 unterbunt drucken, Farbe tupfen und rinnen lassen, ...mit Rollen und Walzen
  arbeiten, ....Murmelbilder entstehen lassen, ...runde Bilder, lange Streif
 en-Bilder malen, ...große und kleine Punkte, Tupfen entstehen lassen,......
 Konfetti und Papierschlangen aufkleben, ...\n…mit bunten Girlanden in lange
 n Reihen tanzen, …100 kleine Bälle werfen, auf großen, bunten Bällen rollen
 , ...Bänder durch den Raum spannen, … mit farbenfrohen Tüchern wirbeln, …mi
 t Luftballons spielen, ,... Konfetti kehren, miteinander tanzen, spielen, v
 ergnügt sein.\n \nKosten: 30 Euro für einen Erwachsenen und ein Kind, 6 Eur
 o für jede weitere Person\nUnsere Zielgruppe sind Kinder zwischen 2 und 6 J
 ahren mit ihren Eltern, jüngere und ältere Geschwister sind herzlich willko
 mmen. Um Voranmeldung wird gebeten!\n\nVeranstaltungsort: Löhrgasse 10, Neu
 baugürtel 7, 1150 Wien\n
X-ALT-DESC;FMTTYPE=text/html:<p><strong>WO Nr. 1 Sonntag, 24. Februar 2019 Sonntags-Tanzen/ -Malen :„PUN
 KTE / SCHLANGEN/ WILDE MUSTER“ – zum Faschings-Ausklang</strong></p><p> </p
 ><p>... farbenfroh stempeln, kunterbunt drucken, Farbe tupfen und rinnen la
 ssen, ...mit Rollen und Walzen arbeiten, ....Murmelbilder entstehen lassen,
  ...runde Bilder, lange Streifen-Bilder malen, ...große und kleine Punkte, 
 Tupfen entstehen lassen,......Konfetti und Papierschlangen aufkleben, ...<b
 r />…mit bunten Girlanden in langen Reihen tanzen, …100 kleine Bälle werfen
 , auf großen, bunten Bällen rollen, ...Bänder durch den Raum spannen, … mit
  farbenfrohen Tüchern wirbeln, …mit Luftballons spielen, ,... Konfetti kehr
 en, miteinander tanzen, spielen, vergnügt sein.</p><p> </p><p>Kosten: 30 Eu
 ro für einen Erwachsenen und ein Kind, 6 Euro für jede weitere Person<br />
 Unsere Zielgruppe sind Kinder zwischen 2 und 6 Jahren mit ihren Eltern, jün
 gere und ältere Geschwister sind herzlich willkommen. Um Voranmeldung wird 
 gebeten!<br /><br />Veranstaltungsort: Löhrgasse 10, Neubaugürtel 7, 1150 W
 ien</p>
CONTACT:office@kinderatelier.at
X-EXTRAINFO:[preis='3000'][anmeldung='true']
DTSTAMP:20260425T153703
DTSTART:20190224T090000
DTEND:20190224T120000
SEQUENCE:0
TRANSP:OPAQUE
END:VEVENT
END:VCALENDAR