BEGIN:VCALENDAR
VERSION:2.0
PRODID:-//jEvents 2.0 for Joomla//EN
CALSCALE:GREGORIAN
METHOD:PUBLISH
BEGIN:VEVENT
UID:a3721967dcc931479d56901b66c8ef50
CATEGORIES:10. Bezirk
CREATED:19700101T010000
SUMMARY:OM - Yoga für Mama & Kind (2)
LOCATION:Dieselgasse 1\, 1100 Wien
DESCRIPTION:Rückbildungs-Yoga bietet wunderbare Übungen zur Stärkung und Zentrierung de
 ines Körpers nach der Geburt. Wir beginnen mit sanfter Lockerung, machen mü
 de Mamas wach und stärken dann die Bauchmuskulatur, Rumpf und Beckenboden. 
 Eine ausgiebige Entspannung und der Austausch mit anderen Mamas dürfen natü
 rlich nicht fehlen!   Yoga in der Kleingruppe bis max 6 Teilnehmerinnen Gru
 ppe 2: Für Babys ab dem Krabbelalter Anmeldung an: auszeit@ausliebezudir.at
  (mailto:auszeit@ausliebezudir.at)oder 0677 620 818 54 Schnuppern 10€Einzel
  17€10er-Blockkarte 140€ Weitere Infos siehe www.ausliebezudir.at
X-ALT-DESC;FMTTYPE=text/html:<div data-contents="true"><div class="" data-block="true" data-editor="d185
 8" data-offset-key="ccb4r-0-0"><div class="_1mf _1mj" data-offset-key="ccb4
 r-0-0"><span data-offset-key="ccb4r-0-0">Rückbildungs-Yoga bietet wunderbar
 e Übungen zur Stärkung und Zentrierung deines Körpers nach der Geburt.</spa
 n></div></div><div class="" data-block="true" data-editor="d1858" data-offs
 et-key="8uo9r-0-0"><div class="_1mf _1mj" data-offset-key="8uo9r-0-0"><span
  data-offset-key="8uo9r-0-0"> </span></div></div><div class="" data-block="
 true" data-editor="d1858" data-offset-key="f76ea-0-0"><div class="_1mf _1mj
 " data-offset-key="f76ea-0-0"><span data-offset-key="f76ea-0-0">Wir beginne
 n mit sanfter Lockerung, machen müde Mamas wach und stärken dann die Bauchm
 uskulatur, Rumpf und Beckenboden.</span></div></div><div class="" data-bloc
 k="true" data-editor="d1858" data-offset-key="fam6j-0-0"><div class="_1mf _
 1mj" data-offset-key="fam6j-0-0"><span data-offset-key="fam6j-0-0"> </span>
 </div></div><div class="" data-block="true" data-editor="d1858" data-offset
 -key="o5se-0-0"><div class="_1mf _1mj" data-offset-key="o5se-0-0"><span dat
 a-offset-key="o5se-0-0">Eine ausgiebige Entspannung und der Austausch mit a
 nderen Mamas dürfen natürlich nicht fehlen!</span></div></div><div class=""
  data-block="true" data-editor="d1858" data-offset-key="8obdu-0-0"><div cla
 ss="" data-block="true" data-editor="d1858" data-offset-key="forul-0-0"><di
 v class="" data-block="true" data-editor="d1858" data-offset-key="8obdu-0-0
 "> </div><div class="" data-block="true" data-editor="d1858" data-offset-ke
 y="8obdu-0-0"> </div><div class="" data-block="true" data-editor="d1858" da
 ta-offset-key="8obdu-0-0"> </div><div class="" data-block="true" data-edito
 r="d1858" data-offset-key="forul-0-0"><div class="_1mf _1mj" data-offset-ke
 y="forul-0-0"><span data-offset-key="forul-0-0">Yoga in der Kleingruppe bis
  max 6 Teilnehmerinnen</span></div></div><div class="_1mf _1mj" data-offset
 -key="forul-0-0"> </div><div class="_1mf _1mj" data-offset-key="forul-0-0">
 <span data-offset-key="forul-0-0">Gruppe 2: Für Babys ab dem Krabbelalter</
 span></div></div></div><div class="" data-block="true" data-editor="d1858" 
 data-offset-key="fndig-0-0"><div class="_1mf _1mj" data-offset-key="fndig-0
 -0"><span data-offset-key="fndig-0-0"> </span></div></div><div class="" dat
 a-block="true" data-editor="d1858" data-offset-key="ali4m-0-0"><div class="
 _1mf _1mj" data-offset-key="ali4m-0-0"><span data-offset-key="ali4m-0-0">An
 meldung an: <a href="mailto:auszeit@ausliebezudir.at">auszeit@ausliebezudir
 .at</a></span></div><div class="_1mf _1mj" data-offset-key="ali4m-0-0"><spa
 n data-offset-key="ali4m-0-0">oder 0677 620 818 54</span></div><div class="
 _1mf _1mj" data-offset-key="ali4m-0-0"> </div><div class="_1mf _1mj" data-o
 ffset-key="ali4m-0-0"><span data-offset-key="ali4m-0-0">Schnuppern 10€</spa
 n></div><div class="_1mf _1mj" data-offset-key="ali4m-0-0"><span data-offse
 t-key="ali4m-0-0">Einzel 17€</span></div><div class="_1mf _1mj" data-offset
 -key="ali4m-0-0"><span data-offset-key="ali4m-0-0">10er-Blockkarte 140€</sp
 an></div></div><div class="" data-block="true" data-editor="d1858" data-off
 set-key="dst4c-0-0"><div class="_1mf _1mj" data-offset-key="dst4c-0-0"><spa
 n data-offset-key="dst4c-0-0"> </span></div></div><div class="" data-block=
 "true" data-editor="d1858" data-offset-key="8v4ai-0-0"><div class="_1mf _1m
 j" data-offset-key="8v4ai-0-0"><span data-offset-key="8v4ai-0-0">Weitere In
 fos siehe www.ausliebezudir.at</span></div></div></div>
CONTACT:Marion Fritz, auszeit@ausliebezudir.at
X-EXTRAINFO:[preis='1000'][anmeldung='true']
DTSTAMP:20260424T160614
DTSTART:20190220T090000
DTEND:20190220T103000
SEQUENCE:0
RRULE:FREQ=WEEKLY;UNTIL=20190620T000000Z;INTERVAL=1;BYDAY=WE
TRANSP:OPAQUE
END:VEVENT
END:VCALENDAR