BEGIN:VCALENDAR
VERSION:2.0
PRODID:-//jEvents 2.0 for Joomla//EN
CALSCALE:GREGORIAN
METHOD:PUBLISH
BEGIN:VEVENT
UID:b868f28210766f36b3e5e20b897a8f17
CATEGORIES:10. Bezirk
CREATED:20190218T115036
SUMMARY:OM - Yoga für Mama & Kind (1)
LOCATION:Dieselgasse 1\, 1100 Wien
DESCRIPTION:<p style="text-align: center;"><span style="font-size: 14px;">Mama-Baby-Yog
 a 1</span></p><p style="text-align: center;"><span style="font-size: 14px;"
 >Zum Auffüllen deiner Energietanks - sanfte Rückbildung, Ankommen in deiner
  Mama-Rolle, gemeinsame Zeit zum Kennenlernen und Spielen mit deinem Baby</
 span></p><p style="text-align: center;"> </p><p style="text-align: center;"
 ><span style="font-size: 14px;">Für Mamas von Babys ab 6 Wochen nach der Ge
 burt bis zum Krabbeln.<br /></span></p><p style="text-align: center;"> </p>
 <p style="text-align: center;"> </p><p style="text-align: left;"><span styl
 e="font-size: 14px;">Schnuppern 10€</span></p><p style="text-align: left;">
 <span style="font-size: 14px;">Einzel 17€</span></p><p style="text-align: l
 eft;"><span style="font-size: 14px;">10-er Block 140€</span></p>
CONTACT:Marion Fritz, auszeit@ausliebezudir.at, 0677 62081854, www.ausliebezudir.at
X-EXTRAINFO:[preis='1000'][anmeldung='true']
DTSTAMP:20260424T125520
DTSTART:20190220T113000
DTEND:20190220T130000
SEQUENCE:0
TRANSP:OPAQUE
END:VEVENT
END:VCALENDAR