BEGIN:VCALENDAR
VERSION:2.0
PRODID:-//jEvents 2.0 for Joomla//EN
CALSCALE:GREGORIAN
METHOD:PUBLISH
BEGIN:VEVENT
UID:68f5ef3e3f149221fc34d489cf78c075
CATEGORIES:10. Bezirk
CREATED:19700101T010000
SUMMARY:Aus Liebe zu Dir - Familiennachmittag
LOCATION:Dieselgasse 1\, 1100 Wien
DESCRIPTION:Familienyoga / Familiennachmittag\n\nFür alle Eltern, die den Kindern nachl
 aufen und ins Schwitzen kommen!\n \nEin bisschen Beckenboden, Bauch, Bein, 
 Po und Kreislauf in Schwung bringen, Singen, Tanzen, Fangen spielen und ein
 fach die Zeit genießen.\n \nFür Eltern mit Kinder ab dem Laufen bis 3 Jahre
 . (Geschwisterkinder gerne willkommen)\n \n \n \nAnmeldung\nMarion Fritz\na
 uszeit@ausliebezudir.at (mailto:auszeit@ausliebezudir.at)\n0677 620 818 54\
 n \nSchnuppern: 10€\nEinzel 17€\n10erBlock 140€\n
X-ALT-DESC;FMTTYPE=text/html:<p style="text-align: center;"><span style="font-size: 14px;">Familienyoga 
 / Familiennachmittag<br /></span></p><p style="text-align: center;">Für all
 e Eltern, die den Kindern nachlaufen und ins Schwitzen kommen!</p><p style=
 "text-align: center;"> </p><p style="text-align: center;">Ein bisschen Beck
 enboden, Bauch, Bein, Po und Kreislauf in Schwung bringen, Singen, Tanzen, 
 Fangen spielen und einfach die Zeit genießen.</p><p style="text-align: cent
 er;"> </p><p style="text-align: center;">Für Eltern mit Kinder ab dem Laufe
 n bis 3 Jahre. (Geschwisterkinder gerne willkommen)</p><p style="text-align
 : center;"> </p><p> </p><p> </p><p>Anmeldung</p><p>Marion Fritz</p><p><a hr
 ef="mailto:auszeit@ausliebezudir.at">auszeit@ausliebezudir.at</a></p><p>067
 7 620 818 54</p><p> </p><p>Schnuppern: 10€</p><p>Einzel 17€</p><p>10erBlock
  140€</p>
CONTACT:Marion Fritz, auszeit@ausliebezudir.at, 0677 62081854, www.ausliebezudir.at
X-EXTRAINFO:[preis='1000'][anmeldung='true']
DTSTAMP:20260424T155518
DTSTART:20190226T140000
DTEND:20190226T153000
SEQUENCE:0
RRULE:FREQ=WEEKLY;UNTIL=20190619T000000Z;INTERVAL=1;BYDAY=TU
TRANSP:OPAQUE
END:VEVENT
END:VCALENDAR