BEGIN:VCALENDAR
VERSION:2.0
PRODID:-//jEvents 2.0 for Joomla//EN
CALSCALE:GREGORIAN
METHOD:PUBLISH
BEGIN:VEVENT
UID:ae8328e46ebc619a59b90bc933d9ab80
CATEGORIES:15. Bezirk
CREATED:20190218T215526
SUMMARY:MONATS-MALEN FÜR ELTERN UND KINDER VON 1½ BIS 3½ JAHREN
LOCATION:Löhrgasse 10
DESCRIPTION: …einmal im Monat nach Herzenslust gemeinsam malen, werken,  basteln!\n…in 
 den letzten Wintertagen kunterbunt malen, streuen, schütten und lustige Fas
 chingsfiguren basteln, Winterweißes fädeln und stecken,\n…im Frühling prime
 lgelb, himmelblau und schäfchen-weiß mischen und malen, mit  grünen Zweigen
 , Gräsern, Stängeln werken, Blumen und Blüten erfinden,\n…im Sommer bunte K
 etten für den Strand fädeln, sonnengelb und feuer-rot stempeln, rollen, dru
 cken,  Muscheln, Sand und Steine in Ton drücken,…\nTermine:  21. Februar, 2
 1. März, 11. April, 16. Mai und 13. Juni 2019\nLeitung: Ulli Buchinger\nKos
 ten: 95 Euro für 5 Nachmittage\n
X-ALT-DESC;FMTTYPE=text/html:<p> …einmal im Monat nach Herzenslust gemeinsam malen, werken,  basteln!</p
 ><p>…in den letzten Wintertagen kunterbunt malen, streuen, schütten und lus
 tige Faschingsfiguren basteln, Winterweißes fädeln und stecken,<br />…im Fr
 ühling primelgelb, himmelblau und schäfchen-weiß mischen und malen, mit  gr
 ünen Zweigen, Gräsern, Stängeln werken, Blumen und Blüten erfinden,<br />…i
 m Sommer bunte Ketten für den Strand fädeln, sonnengelb und feuer-rot stemp
 eln, rollen, drucken,  Muscheln, Sand und Steine in Ton drücken,…</p><p>Ter
 mine:  21. Februar, 21. März, 11. April, 16. Mai und 13. Juni 2019<br />Lei
 tung: Ulli Buchinger<br />Kosten: 95 Euro für 5 Nachmittage</p>
CONTACT:office@kinderatelier.at
X-EXTRAINFO:[preis='9500'][anmeldung='true']
DTSTAMP:20260425T153626
DTSTART:20190221T143000
DTEND:20190221T163000
SEQUENCE:0
TRANSP:OPAQUE
END:VEVENT
END:VCALENDAR