BEGIN:VCALENDAR
VERSION:2.0
PRODID:-//jEvents 2.0 for Joomla//EN
CALSCALE:GREGORIAN
METHOD:PUBLISH
BEGIN:VEVENT
UID:aa6779daf390e23ab13c4ce96605864f
CATEGORIES:15. Bezirk
CREATED:19700101T010000
SUMMARY:MALEN UND GESTALTEN FÜR ELTERN UND KINDER VON 1½ BIS 3½ JAHREN
LOCATION:Löhrgasse 10
DESCRIPTION:…Begeistertes Tun steht hier im Vordergrund. Wer Lust hat, …mit viel Vergnü
 gen und Freude am Experimentieren zu malen, mischen, drucken oder stempeln,
  …bunte Farben leuchten zu lassen, …Bilder zu streuen, zu kleben, zu schnei
 den, zu schütten, …mit Rasierschaum zu patzen, …bunte Nudeln zu fädeln,, … 
 Figuren, Objekte, Landschaften aus Verpackungsmaterial zu stecken und bauen
 ,…\n…das Kleben, Reißen, Schneiden, Schütten, Kneten und Formen macht in ei
 ner vertrauten Gruppe noch mehr Spaß. Das gemeinsame Arbeiten mit dem Kind 
 eröffnet auch den Erwachsenen neue Zugänge zur eigenen Kreativität.\nLeitun
 g: Andrea Krall\nKosten: 180 Euro für zehn Nachmittage\n
X-ALT-DESC;FMTTYPE=text/html:<p>…Begeistertes Tun steht hier im Vordergrund. Wer Lust hat, …mit viel Ver
 gnügen und Freude am Experimentieren zu malen, mischen, drucken oder stempe
 ln, …bunte Farben leuchten zu lassen, …Bilder zu streuen, zu kleben, zu sch
 neiden, zu schütten, …mit Rasierschaum zu patzen, …bunte Nudeln zu fädeln,,
  … Figuren, Objekte, Landschaften aus Verpackungsmaterial zu stecken und ba
 uen,…<br />…das Kleben, Reißen, Schneiden, Schütten, Kneten und Formen mach
 t in einer vertrauten Gruppe noch mehr Spaß. Das gemeinsame Arbeiten mit de
 m Kind eröffnet auch den Erwachsenen neue Zugänge zur eigenen Kreativität.<
 /p><p>Leitung: Andrea Krall<br />Kosten: 180 Euro für zehn Nachmittage</p>
CONTACT:office@kinderatelier.at
X-EXTRAINFO:[preis='18000'][anmeldung='true']
DTSTAMP:20260425T153657
DTSTART:20190226T143000
DTEND:20190226T163000
SEQUENCE:0
RRULE:FREQ=WEEKLY;COUNT=10;INTERVAL=1;BYDAY=TU
TRANSP:OPAQUE
END:VEVENT
END:VCALENDAR