BEGIN:VCALENDAR
VERSION:2.0
PRODID:-//jEvents 2.0 for Joomla//EN
CALSCALE:GREGORIAN
METHOD:PUBLISH
BEGIN:VEVENT
UID:d6fb6956265ce2e273a75382b31d11b3
CATEGORIES:15. Bezirk
CREATED:19700101T010000
SUMMARY:TANZ UND SPIEL FÜR ELTERN UND KINDER VON 1 BIS 3 JAHREN
LOCATION:Neubaugürtel 7
DESCRIPTION:<p>……sich miteinander unter Tüchern verstecken, auf großen Bällen rollen, m
 iteinander kugeln, purzeln und schaukeln, mit Luftballons spielen, Kisten d
 urch den Raum schieben, im Konfettiregen sitzen, Rhythmus und Musik erleben
 , und das alles nicht allein, sondern in der Geborgenheit einer vertrauten 
 Gruppe.</p><p>Leitung: Alice Bauer<br />Kosten: 165 Euro für 13 Vormittage<
 /p>
CONTACT:office@kinderatelier.at
X-EXTRAINFO:[preis='16500'][anmeldung='true']
DTSTAMP:20260425T141814
DTSTART:20190226T090000
DTEND:20190226T103000
SEQUENCE:0
RRULE:FREQ=WEEKLY;COUNT=13;INTERVAL=1;BYDAY=TU
TRANSP:OPAQUE
END:VEVENT
END:VCALENDAR