BEGIN:VCALENDAR
VERSION:2.0
PRODID:-//jEvents 2.0 for Joomla//EN
CALSCALE:GREGORIAN
METHOD:PUBLISH
BEGIN:VEVENT
UID:d7482aa60bef7329e33bb89c4489733a
CATEGORIES:15. Bezirk
CREATED:20190218T221457
SUMMARY:TANZ UND SPIEL FÜR ELTERN UND KINDER VON 1 BIS 3 JAHREN
LOCATION:Neubaugürtel 7
DESCRIPTION:……sich miteinander unter Tüchern verstecken, auf großen Bällen rollen, mite
 inander kugeln, purzeln und schaukeln, mit Luftballons spielen, Kisten durc
 h den Raum schieben, im Konfettiregen sitzen, Rhythmus und Musik erleben, u
 nd das alles nicht allein, sondern in der Geborgenheit einer vertrauten Gru
 ppe.\nLeitung: Bitti M. Jurda\nKosten: 165 Euro für 13 Vormittage\n
X-ALT-DESC;FMTTYPE=text/html:<p>……sich miteinander unter Tüchern verstecken, auf großen Bällen rollen, m
 iteinander kugeln, purzeln und schaukeln, mit Luftballons spielen, Kisten d
 urch den Raum schieben, im Konfettiregen sitzen, Rhythmus und Musik erleben
 , und das alles nicht allein, sondern in der Geborgenheit einer vertrauten 
 Gruppe.</p><p>Leitung: Bitti M. Jurda<br />Kosten: 165 Euro für 13 Vormitta
 ge</p>
CONTACT:office@kinderatelier.at
X-EXTRAINFO:[preis='16500'][anmeldung='true']
DTSTAMP:20260425T170354
DTSTART:20190227T090000
DTEND:20190227T103000
SEQUENCE:0
TRANSP:OPAQUE
END:VEVENT
END:VCALENDAR