BEGIN:VCALENDAR
VERSION:2.0
PRODID:-//jEvents 2.0 for Joomla//EN
CALSCALE:GREGORIAN
METHOD:PUBLISH
BEGIN:VEVENT
UID:564e74fd3a7db76862cfd15c71a88ad2
CATEGORIES:15. Bezirk
CREATED:19700101T010000
SUMMARY:TANZ UND BEWEGUNG FÜR ELTERN UND KINDER VON 1½ BIS 3½ JAHREN
LOCATION:Neubaugürtel 7
DESCRIPTION:…unbeschwert miteinander laufen und hüpfen, stampfen und klatschen, rollen 
 und springen, spielen mit Bällen, Tüchern, Seilen, Säcken, …Bewegungsspiele
  und einfache Kreistänze lassen „Grosse“ und „Kleine“ mit- und voneinander 
 lernen und ganz einfach vergnügt sein.\nLeitung: Bitti Marina Jurda\nKosten
 : 165 Euro für 13 Nachmittage\n
X-ALT-DESC;FMTTYPE=text/html:<p>…unbeschwert miteinander laufen und hüpfen, stampfen und klatschen, roll
 en und springen, spielen mit Bällen, Tüchern, Seilen, Säcken, …Bewegungsspi
 ele und einfache Kreistänze lassen „Grosse“ und „Kleine“ mit- und voneinand
 er lernen und ganz einfach vergnügt sein.</p><p>Leitung: Bitti Marina Jurda
 <br />Kosten: 165 Euro für 13 Nachmittage</p>
CONTACT:office@kinderatelier.at
X-EXTRAINFO:[preis='16500'][anmeldung='true']
DTSTAMP:20260425T104928
DTSTART:20190228T153000
DTEND:20190228T170000
SEQUENCE:0
RRULE:FREQ=WEEKLY;COUNT=13;INTERVAL=1;BYDAY=TH
TRANSP:OPAQUE
END:VEVENT
END:VCALENDAR