BEGIN:VCALENDAR
VERSION:2.0
PRODID:-//jEvents 2.0 for Joomla//EN
CALSCALE:GREGORIAN
METHOD:PUBLISH
BEGIN:VEVENT
UID:ab5dff9346675485219e8d52fbd620cf
CATEGORIES:10. Bezirk
CREATED:20190221T231449
SUMMARY:Eltern & Kinder Disko
LOCATION:Absberggasse 27
DESCRIPTION:Tanz den Fasching! Bei der Eltern &amp; Kinder Disko in der Brotfabrik!\n \
 nLust auf ein Faschingstänzchen? An diesem Samstag wird das Foyer im Erdges
 choß des Objekt 19 in der Brotfabrik zu den Sounds von DJs "Bad&amp;Bouje" 
 zum Wanken gebracht - ohne dass das Trommelfell zu platzen droht.  \n\nWer 
 ein Päuschen oder Abwechslung braucht, kann sich bei Community Cooking (htt
 ps://www.facebook.com/communitycooking.brotfabrik/) in der Küche austoben -
  oder einfach in der neuen magdas KANTINE bei einem Kaffee chillen und trot
 zdem alles im Überblick behalten.\n\nEinfach verkleiden, vorbeikommen und m
 ittanzen!\nDie Teilnahme ist kostenlos!\n\nEin Tipp: Vorher noch in der Exp
 edithalle Wien (https://www.facebook.com/expedithalle/) vorbeischaun, beim 
 DesignBazar &amp; Ladyfashion &amp; MiniMondschein #5 (https://www.facebook
 .com/events/350922529058190/)\n\nAdresse: Absberggasse 27/3 oder Puchsbaumg
 asse 1c,1100 Wien\n
X-ALT-DESC;FMTTYPE=text/html:<p>Tanz den Fasching! Bei der <strong>Eltern &amp; Kinder Disko</strong> in
  der <strong>Brotfabrik</strong>!<br /> </p><p>Lust auf ein Faschingstänzch
 en? An diesem Samstag wird das <strong>Foyer im Erdgeschoß des <a href="htt
 ps://www.facebook.com/Objekt19/" target="_blank" rel="noopener noreferrer">
 Objekt 19</a></strong> in der Brotfabrik zu den Sounds von DJs "Bad&amp;Bou
 je" zum Wanken gebracht - ohne dass das Trommelfell zu platzen droht.  <br 
 /><br />Wer ein Päuschen oder Abwechslung braucht, kann sich bei <strong><a
  href="https://www.facebook.com/communitycooking.brotfabrik/" target="_blan
 k" rel="noopener noreferrer">Community Cooking</a></strong> in der Küche au
 stoben - oder einfach in der neuen <strong><em>mag</em>das KANTINE</strong>
  bei einem Kaffee chillen und trotzdem alles im Überblick behalten.<br /><b
 r />Einfach verkleiden,<strong> vorbeikommen und mittanzen</strong>!<br />D
 ie Teilnahme ist kostenlos!<br /><br />Ein Tipp: Vorher noch in der <a href
 ="https://www.facebook.com/expedithalle/" target="_blank" rel="noopener nor
 eferrer">Expedithalle Wien</a> vorbeischaun, beim <a href="https://www.face
 book.com/events/350922529058190/" target="_blank" rel="noopener noreferrer"
 >DesignBazar &amp; Ladyfashion &amp; MiniMondschein #5</a><br /><br />Adres
 se: Absberggasse 27/3 oder Puchsbaumgasse 1c,1100 Wien</p>
DTSTAMP:20260424T123810
DTSTART:20190223T140000
DTEND:20190223T170000
SEQUENCE:0
TRANSP:OPAQUE
END:VEVENT
END:VCALENDAR