BEGIN:VCALENDAR
VERSION:2.0
PRODID:-//jEvents 2.0 for Joomla//EN
CALSCALE:GREGORIAN
METHOD:PUBLISH
BEGIN:VEVENT
UID:d39a6474ded4cdb453545d6534671f8c
CATEGORIES:7. Bezirk
CREATED:20190226T154657
SUMMARY:Geburtsvorbereitung für Frauen bzw. Paare
LOCATION:Nanaya\, Zollergasse 37\, 1070
DESCRIPTION:<p><strong>WOCHENENDKURS</strong> am <strong>Freitag 18.30 - 21.00 </strong
 >und<strong> Samstag 09.30 - 17.00 </strong></p><p>In unseren Wochenendkurs
 en bieten wir <strong>unabhängige</strong> Information und Beratung zu zahl
 reichen Themen rund um Geburt, Wochenbett und die erste Zeit mit dem Baby a
 n.</p><p>Die kleine Gruppe (max. 8 Paare) hat den Vorteil, auf individuelle
  Lebenssituationen und persönliche Fragen gut eingehen zu können. Daher kön
 nen schwangere Frauen alleine, mit PartnerIn oder Begleitperson teilnehmen,
  Erstschwangere genauso wie Eltern, die bereits Kinder haben, Paare mit ein
 em geplanten Kaiserschnitt genauso wie Personen, die eine vaginale Geburt a
 nstreben.</p><p>Im Kursbeitrag sind Getränke und ein kleiner Imbiss für die
  Kaffeepausen enthalten, am Samstag gibt es eine ca. einstündige Mittagspau
 se.</p><p><strong>Inhalt des Kurses:</strong></p><ul><li><strong>Informatio
 nen</strong> über den Geburtsablauf, die Rolle/Unterstützung der Begleitper
 son, mögliche Eingriffe, die Kaiserschnittgeburt, das Wochenbett, das Leben
  mit dem Neugeborenen</li></ul><ul><li><strong>Körperliche Vorbereitung</st
 rong>, z.B. Atem- und Entspannungsübungen, Bewegung und Körperarbeit, das A
 usprobieren möglicher Geburtspositionen, Massagen</li></ul><ul><li><strong>
 Psychologische Vorbereitung</strong>, z.B. Strategien zum Umgang mit Angst 
 und Schmerz, Auseinandersetzung mit der eigenen Gebärfähigkeit, Kontaktaufn
 ahme zum Baby, Mutterrolle, Vaterrolle</li></ul><ul><li><strong>Austausch u
 nd Diskussion </strong>mit anderen Frauen und Paaren in einer ähnlichen Sit
 uation</li></ul><ul><li><strong>Vortrag "Ein guter Stillbeginn"</strong>: E
 r ist Bestandteil des Geburtsvorbereitungskurses und daher im Kursbeitrag i
 nkludiert. Bitte <em><a href="https://www.nanaya.at/?menu=6&amp;id=57"><spa
 n style="text-decoration: underline;">hier</span></a> gesondert und rechtze
 itig dafür anmelden, automatische Zahlungsaufforderung ignorieren!</em></li
 ></ul><ul><li><strong>Babytreffen nach der Geburt: </strong>Es ist ebenfall
 s Teil des Kurses und daher im Kursbeitrag inkludiert. Der Termin dafür wir
 d im Geburtsvorbereitungskurs vereinbart.</li></ul>
CONTACT:rundumgeburt@nanaya.at
X-EXTRAINFO:[preis='9600'][anmeldung='true']
DTSTAMP:20260425T154207
DTSTART:20190316T083000
DTEND:20190316T160000
SEQUENCE:0
TRANSP:OPAQUE
END:VEVENT
END:VCALENDAR