BEGIN:VCALENDAR
VERSION:2.0
PRODID:-//jEvents 2.0 for Joomla//EN
CALSCALE:GREGORIAN
METHOD:PUBLISH
BEGIN:VEVENT
UID:6ae6a231782be1543629c86d44e3b0ef
CATEGORIES:7. Bezirk
CREATED:20190226T154930
SUMMARY:Geburtsvorbereitungskurs für Frauen bzw. Paare
LOCATION:Nanaya\, Zollergasse 37\, 1070
DESCRIPTION:WOCHENENDKURS am Freitag 18.30 - 21.00 und Samstag 09.30 - 17.00 \nIn unser
 en Wochenendkursen bieten wir unabhängige Information und Beratung zu zahlr
 eichen Themen rund um Geburt, Wochenbett und die erste Zeit mit dem Baby an
 .\nDie kleine Gruppe (max. 8 Paare) hat den Vorteil, auf individuelle Leben
 ssituationen und persönliche Fragen gut eingehen zu können. Daher können sc
 hwangere Frauen alleine, mit PartnerIn oder Begleitperson teilnehmen, Ersts
 chwangere genauso wie Eltern, die bereits Kinder haben, Paare mit einem gep
 lanten Kaiserschnitt genauso wie Personen, die eine vaginale Geburt anstreb
 en.\nIm Kursbeitrag sind Getränke und ein kleiner Imbiss für die Kaffeepaus
 en enthalten, am Samstag gibt es eine ca. einstündige Mittagspause.\nInhalt
  des Kurses:\n\n - Informationen über den Geburtsablauf, die Rolle/Unterstü
 tzung der Begleitperson, mögliche Eingriffe, die Kaiserschnittgeburt, das W
 ochenbett, das Leben mit dem Neugeborenen\n - Körperliche Vorbereitung, z.B
 . Atem- und Entspannungsübungen, Bewegung und Körperarbeit, das Ausprobiere
 n möglicher Geburtspositionen, Massagen\n - Psychologische Vorbereitung, z.
 B. Strategien zum Umgang mit Angst und Schmerz, Auseinandersetzung mit der 
 eigenen Gebärfähigkeit, Kontaktaufnahme zum Baby, Mutterrolle, Vaterrolle\n
  - Austausch und Diskussion mit anderen Frauen und Paaren in einer ähnliche
 n Situation\n - Vortrag "Ein guter Stillbeginn": Er ist Bestandteil des Geb
 urtsvorbereitungskurses und daher im Kursbeitrag inkludiert. Bitte hier (ht
 tps://www.nanaya.at/?menu=6&amp;id=57) gesondert und rechtzeitig dafür anme
 lden, automatische Zahlungsaufforderung ignorieren!\n - Babytreffen nach de
 r Geburt: Es ist ebenfalls Teil des Kurses und daher im Kursbeitrag inkludi
 ert. Der Termin dafür wird im Geburtsvorbereitungskurs vereinbart.
X-ALT-DESC;FMTTYPE=text/html:<p><strong>WOCHENENDKURS</strong> am <strong>Freitag 18.30 - 21.00 </strong
 >und<strong> Samstag 09.30 - 17.00 </strong></p><p>In unseren Wochenendkurs
 en bieten wir <strong>unabhängige</strong> Information und Beratung zu zahl
 reichen Themen rund um Geburt, Wochenbett und die erste Zeit mit dem Baby a
 n.</p><p>Die kleine Gruppe (max. 8 Paare) hat den Vorteil, auf individuelle
  Lebenssituationen und persönliche Fragen gut eingehen zu können. Daher kön
 nen schwangere Frauen alleine, mit PartnerIn oder Begleitperson teilnehmen,
  Erstschwangere genauso wie Eltern, die bereits Kinder haben, Paare mit ein
 em geplanten Kaiserschnitt genauso wie Personen, die eine vaginale Geburt a
 nstreben.</p><p>Im Kursbeitrag sind Getränke und ein kleiner Imbiss für die
  Kaffeepausen enthalten, am Samstag gibt es eine ca. einstündige Mittagspau
 se.</p><p><strong>Inhalt des Kurses:</strong></p><ul><li><strong>Informatio
 nen</strong> über den Geburtsablauf, die Rolle/Unterstützung der Begleitper
 son, mögliche Eingriffe, die Kaiserschnittgeburt, das Wochenbett, das Leben
  mit dem Neugeborenen</li></ul><ul><li><strong>Körperliche Vorbereitung</st
 rong>, z.B. Atem- und Entspannungsübungen, Bewegung und Körperarbeit, das A
 usprobieren möglicher Geburtspositionen, Massagen</li></ul><ul><li><strong>
 Psychologische Vorbereitung</strong>, z.B. Strategien zum Umgang mit Angst 
 und Schmerz, Auseinandersetzung mit der eigenen Gebärfähigkeit, Kontaktaufn
 ahme zum Baby, Mutterrolle, Vaterrolle</li></ul><ul><li><strong>Austausch u
 nd Diskussion </strong>mit anderen Frauen und Paaren in einer ähnlichen Sit
 uation</li></ul><ul><li><strong>Vortrag "Ein guter Stillbeginn"</strong>: E
 r ist Bestandteil des Geburtsvorbereitungskurses und daher im Kursbeitrag i
 nkludiert. Bitte <em><a href="https://www.nanaya.at/?menu=6&amp;id=57"><spa
 n style="text-decoration: underline;">hier</span></a> gesondert und rechtze
 itig dafür anmelden, automatische Zahlungsaufforderung ignorieren!</em></li
 ></ul><ul><li><strong>Babytreffen nach der Geburt: </strong>Es ist ebenfall
 s Teil des Kurses und daher im Kursbeitrag inkludiert. Der Termin dafür wir
 d im Geburtsvorbereitungskurs vereinbart.</li></ul>
CONTACT:rundumgeburt@nanaya.at
X-EXTRAINFO:[preis='9600'][anmeldung='true']
DTSTAMP:20260425T153625
DTSTART:20190315T173000
DTEND:20190315T200000
SEQUENCE:0
TRANSP:OPAQUE
END:VEVENT
END:VCALENDAR