BEGIN:VCALENDAR
VERSION:2.0
PRODID:-//jEvents 2.0 for Joomla//EN
CALSCALE:GREGORIAN
METHOD:PUBLISH
BEGIN:VEVENT
UID:d5d9164d2c7966247395c231e936dea6
CATEGORIES:15. Bezirk
CREATED:20190228T183540
SUMMARY:MAMA-BABY-RUNDE
LOCATION:Neubaugürtel 7
DESCRIPTION:MAMA-BABY-RUNDE, \nGesprächskreis zum andere Mütter treffen, Erfahrungen au
 stauschen, miteinander reden, …\n\n…mit einem Baby/ Kleinkind am Arm einen 
 Raum betreten, in dem Familien/Frauen sitzen, die Babys im Schoß haben und 
 Kleinkinder, die am Boden krabbeln, miteinander, reden, plaudern, Tee/ Kaff
 ee trinken, …ankommen: im Freundinnen-Kreis, im Mama-Sein und so manchmal a
 uch wieder fröhlich und entspannt bei den eigenen Kindern,…\n\nWir möchten 
 alle Mamas mit Babys und Kleinkindern einladen, ins KinderAtelier, Neubaugü
 rtel 7, 1150 zu kommen, miteinander zu reden, Erfahrungen auszutauschen, zu
  plaudern Kaffee/ Tee zu trinken, andere Mamas zu treffen,...\n\nTermine: 1
 1. März, 25. März, 8. April, jeweils Montag- Vormittag, von 10 bis 11´30 Uh
 r, kostenfrei.\n\n\nUm Voranmeldung wird gebeten.\nhttp://www.kinderatelier
 .at/ (https://l.facebook.com/l.php?u=http%3A%2F%2Fwww.kinderatelier.at%2F%3
 Ffbclid%3DIwAR3yHCaL7bMyOortdCXBkNxKRdDa9a3bz_SsFCmq_Ifjfj4hPpRMRRrNg5M&amp
 ;h=AT0oHzDJ4GNof39HydRhvereHt3ad3j5XzekDxb5d6IKIzt-bK-kwDxVwMQaN70m8RND_1uC
 5JBAOkqNBYuZFr5TME8aAKRH8tEhA5rhnxU3cM2FWr0S5H6-DxPHQ_zQzUXYdCYk3-XunPwaxw8
 jUq-cG_uGFJahBTmyZ2rwG_ryCR0E11jOnYgeIe6N_aGS9akb2oQHUZErh1GYfdiEt_7pPnTdQT
 JxqV5LWXtP3OS6ECImTs2Kz3unUjDFsd7RQyL11VgD_jxoFrwrBTSuApwR7KldCTnnXbK_U2VuZ
 0OtOz7PdciVOSiJslsbCnJvj--Ddg0k0KkvZlNfER3n5SjTU_7HmY48Q2p4-C3KlXMsizrbvy5j
 TPUL-orRp9z71-H4VBDHr1mpcMrvS1wiuFtp8BB4VrMbJDWHxKg7Svc8GyM0gcES03Cls2NM3AC
 Hu0dItHGZzVr4SvCMlojbgj5O7urjhP7F1inP6JVw2pRPK3ZED3Za9rx-JWOoZyaW-akfN6ECFB
 7X0vSziAFeQHY-I1MxcRfix8xyeTTtX2IBSvbaou5V0jVCrTmeh-2ZcFIetP11ni3kWmQPnS23d
 Zfx697t9nuXFc_-CR_-f8k4W-_vZHXyUotIwABOCT5jEx-Y8N4HvA)\n
X-ALT-DESC;FMTTYPE=text/html:<p>MAMA-BABY-RUNDE, <br />Gesprächskreis zum andere Mütter treffen, Erfahru
 ngen austauschen, miteinander reden, …<br /><br />…mit einem Baby/ Kleinkin
 d am Arm einen Raum betreten<span class="text_exposed_show">, in dem Famili
 en/Frauen sitzen, die Babys im Schoß haben und Kleinkinder, die am Boden kr
 abbeln, miteinander, reden, plaudern, Tee/ Kaffee trinken, …ankommen: im Fr
 eundinnen-Kreis, im Mama-Sein und so manchmal auch wieder fröhlich und ents
 pannt bei den eigenen Kindern,…<br /><br /></span>Wir möchten alle Mamas mi
 t Babys und Kleinkindern einladen, ins KinderAtelier, Neubaugürtel 7, 1150 
 zu kommen, miteinander zu reden, Erfahrungen auszutauschen, zu plaudern Kaf
 fee/ Tee zu trinken, andere Mamas zu treffen,...<br /><br />Termine: 11. Mä
 rz, 25. März, 8. April, jeweils Montag- Vormittag, von 10 bis 11´30 Uhr, ko
 stenfrei.<br /><br /><br />Um Voranmeldung wird gebeten.<br /><a href="http
 s://l.facebook.com/l.php?u=http%3A%2F%2Fwww.kinderatelier.at%2F%3Ffbclid%3D
 IwAR3yHCaL7bMyOortdCXBkNxKRdDa9a3bz_SsFCmq_Ifjfj4hPpRMRRrNg5M&amp;h=AT0oHzD
 J4GNof39HydRhvereHt3ad3j5XzekDxb5d6IKIzt-bK-kwDxVwMQaN70m8RND_1uC5JBAOkqNBY
 uZFr5TME8aAKRH8tEhA5rhnxU3cM2FWr0S5H6-DxPHQ_zQzUXYdCYk3-XunPwaxw8jUq-cG_uGF
 JahBTmyZ2rwG_ryCR0E11jOnYgeIe6N_aGS9akb2oQHUZErh1GYfdiEt_7pPnTdQTJxqV5LWXtP
 3OS6ECImTs2Kz3unUjDFsd7RQyL11VgD_jxoFrwrBTSuApwR7KldCTnnXbK_U2VuZ0OtOz7Pdci
 VOSiJslsbCnJvj--Ddg0k0KkvZlNfER3n5SjTU_7HmY48Q2p4-C3KlXMsizrbvy5jTPUL-orRp9
 z71-H4VBDHr1mpcMrvS1wiuFtp8BB4VrMbJDWHxKg7Svc8GyM0gcES03Cls2NM3ACHu0dItHGZz
 Vr4SvCMlojbgj5O7urjhP7F1inP6JVw2pRPK3ZED3Za9rx-JWOoZyaW-akfN6ECFB7X0vSziAFe
 QHY-I1MxcRfix8xyeTTtX2IBSvbaou5V0jVCrTmeh-2ZcFIetP11ni3kWmQPnS23dZfx697t9nu
 XFc_-CR_-f8k4W-_vZHXyUotIwABOCT5jEx-Y8N4HvA" target="_blank" rel="nofollow 
 noopener noreferrer" data-ft="{&quot;tn&quot;:&quot;-U&quot;}" data-lynx-mo
 de="async">http://www.kinderatelier.at/</a></p>
CONTACT:office@kinderatelier.at
X-EXTRAINFO:[preis='000'][anmeldung='false']
DTSTAMP:20260425T170258
DTSTART:20190325T090000
DTEND:20190325T103000
SEQUENCE:0
TRANSP:OPAQUE
END:VEVENT
END:VCALENDAR