BEGIN:VCALENDAR
VERSION:2.0
PRODID:-//jEvents 2.0 for Joomla//EN
CALSCALE:GREGORIAN
METHOD:PUBLISH
BEGIN:VEVENT
UID:c46ea858bbfc651e35e5ac485098e57e
CATEGORIES:15. Bezirk
CREATED:20190228T184009
SUMMARY:WO 2: Sonntags-Malen: „BÜCHER-BILDER/ BILDER-BÜCHER“, Papier-Werkstatt
LOCATION:Löhrgasse 10\, 1150 Wien
DESCRIPTION:WO 2: Sonntags-Malen: „BÜCHER-BILDER/ BILDER-BÜCHER“,\nPapier-Werkstatt\n\n
 Sonntag,  10. März 2019, von 10 bis 13 Uhr\nKosten: 30 Euro für einen Erwac
 hsenen und ein Kind, 6 Euro für jede weitere Person\n\nUnsere Zielgruppe si
 nd Kinder zwischen 2 und 6 Jahren mit ihren Eltern, jüngere und ältere Gesc
 hwister sind herzlich willkommen. Um Voranmeldung wird gebeten!\n\nVeransta
 ltungsort:  Löhrgasse 10, Neubaugürtel 7, 1150 Wien\n 
X-ALT-DESC;FMTTYPE=text/html:<p><strong>WO 2: Sonntags-Malen: „BÜCHER-BILDER/ BILDER-BÜCHER“,</strong><b
 r /><strong>Papier-Werkstatt<br /><br /></strong>Sonntag, <strong> 10. März
  2019</strong><strong>,</strong> von 10 bis 13 Uhr<br />Kosten: 30 Euro für
  einen Erwachsenen und ein Kind, 6 Euro für jede weitere Person<br /><br />
 Unsere Zielgruppe sind Kinder zwischen 2 und 6 Jahren mit ihren Eltern, jün
 gere und ältere Geschwister sind herzlich willkommen. Um Voranmeldung wird 
 gebeten!<br /><br />Veranstaltungsort:  Löhrgasse 10, Neubaugürtel 7, 1150 
 Wien</p><h3> </h3>
CONTACT:office@kinderatelier.at
X-EXTRAINFO:[preis='3000'][anmeldung='true']
DTSTAMP:20260425T184552
DTSTART:20190310T090000
DTEND:20190310T120000
SEQUENCE:0
TRANSP:OPAQUE
END:VEVENT
END:VCALENDAR