BEGIN:VCALENDAR
VERSION:2.0
PRODID:-//jEvents 2.0 for Joomla//EN
CALSCALE:GREGORIAN
METHOD:PUBLISH
BEGIN:VEVENT
UID:cb16a8cdad938697348b31769aa573d6
CATEGORIES:6. Bezirk
CREATED:19700101T010000
SUMMARY:Baby-Atelier
LOCATION:6.\, Sandwirtgasse 13/12
DESCRIPTION:Biolino Baby-AtelierFür Kinder ab dem Sitzalter bis 2,5 JahreGruppe 1: 09.3
 0 - 10.30 Uhr\n Gruppe 2: 11.00 - 12.00 Uhr\nGruppe 3: 14.30 - 15.30 Uhr\nS
 pielgruppe mit dem Schwerpunkt haptische Sinnesschulung\n- Experimentieren 
 mit Farben, Konsistenzen und unterschiedlichsten Materialien\nDie kleinen K
 ünstlerinnen und Künstler können im Biolino Baby-Atelier nach Herzenslust m
 it selbst hergestellten Bio-Farben matschen und gatschen, ohne dass Mama od
 er Papa nachher aufräumen müssen. Über das ganze Semester verteilt führen w
 ir immer wieder neues Erlebnismaterial in die Gruppe ein.\n \n Klebrig, mat
 schig, bröselig, kratzig: Sand, Erde, Getreidekörner, Holz und viele andere
  haptische Anregungen warten auf experimentierfreudige Entdecker*innen. Die
  Kinder können nach Herzenslust die Bio-Farben und Materialien mischen und 
 dabei mit allen Sinnen erleben, wie sie ihre Eigenschaften verändern.\nTerm
 ine im Baby-Atelier (https://www.biolino.at/spielgruppen/baby-atelier/) Som
 mersemester 2019März 2019: 6.3., 13.3., 20.3., 27.3.,\nApril 2019: 3.4., 10
 .4., 24.4.,\nMai 2019: 8.5., 15.5., 22.5., 29.5.,\nJuni 2019: 5.6., 12.6., 
 19.6., 26.6.,\n \nweitere Infos unter: Baby-Atelier (https://www.biolino.at
 /spielgruppen/baby-atelier/)\nwww.biolino.at (http://www.biolino.at)\nmarti
 na.novak@biolino.at, (mailto:martina.novak@biolino.at,) 0677 628 929 70\nSa
 ndwirtgasse 13/12, 1060 Wien\n \nWir freuen unsauf euch! &lt;3\nMartina und
  das Biolino Team\n
X-ALT-DESC;FMTTYPE=text/html:<div class="eventContent"><h1>Biolino Baby-Atelier</h1><h2>Für Kinder ab de
 m Sitzalter bis 2,5 Jahre</h2><p><strong>Gruppe 1</strong>: 09.30 - 10.30 U
 hr<br /> <strong>Gruppe 2</strong>: 11.00 - 12.00 Uhr</p><p><strong>Gruppe 
 3</strong>: 14.30 - 15.30 Uhr</p><p><strong>Spielgruppe mit dem Schwerpunkt
  haptische Sinnesschulung</strong></p><p>- Experimentieren mit Farben, Kons
 istenzen und unterschiedlichsten Materialien</p><p>Die kleinen Künstlerinne
 n und Künstler können im Biolino Baby-Atelier nach Herzenslust mit selbst h
 ergestellten Bio-Farben matschen und gatschen, ohne dass Mama oder Papa nac
 hher aufräumen müssen. Über das ganze Semester verteilt führen wir immer wi
 eder neues Erlebnismaterial in die Gruppe ein.<br /> <br /> Klebrig, matsch
 ig, bröselig, kratzig: Sand, Erde, Getreidekörner, Holz und viele andere ha
 ptische Anregungen warten auf experimentierfreudige Entdecker*innen. Die Ki
 nder können nach Herzenslust die Bio-Farben und Materialien mischen und dab
 ei mit allen Sinnen erleben, wie sie ihre Eigenschaften verändern.</p><h3>T
 ermine im <a title="Baby-Atelier" href="https://www.biolino.at/spielgruppen
 /baby-atelier/">Baby-Atelier</a> Sommersemester 2019</h3><p><strong>März 20
 19</strong><strong>: </strong>6.3., 13.3., 20.3., 27.3.,</p><p><strong>Apri
 l 2019</strong>: 3.4., 10.4., 24.4.,</p><p><strong>Mai 2019</strong>: 8.5.,
  15.5., 22.5., 29.5.,</p><p><strong>Juni 2019</strong>: 5.6., 12.6., 19.6.,
  26.6.,</p><p> </p><p>weitere Infos unter: <a title="Baby-Atelier" href="ht
 tps://www.biolino.at/spielgruppen/baby-atelier/">Baby-Atelier</a></p><p><a 
 title="www.biolion.at" href="http://www.biolino.at">www.biolino.at</a></p><
 p><a href="mailto:martina.novak@biolino.at,">martina.novak@biolino.at,</a> 
 0677 628 929 70</p><p>Sandwirtgasse 13/12, 1060 Wien</p><p> </p><p>Wir freu
 en unsauf euch! &lt;3</p><p>Martina und das Biolino Team</p></div>
CONTACT:martina.novak@biolino.at, 0677 628 929 70
X-EXTRAINFO:[preis='1500'][anmeldung='true']
DTSTAMP:20260423T182353
DTSTART:20190306T100000
DTEND:20190306T110000
SEQUENCE:0
RRULE:FREQ=WEEKLY;UNTIL=20190627T000000Z;INTERVAL=1;BYDAY=WE
EXDATE:20190417T090000,20190501T090000
TRANSP:OPAQUE
END:VEVENT
END:VCALENDAR