BEGIN:VCALENDAR
VERSION:2.0
PRODID:-//jEvents 2.0 for Joomla//EN
CALSCALE:GREGORIAN
METHOD:PUBLISH
BEGIN:VEVENT
UID:d493ebd5b5506735e0472a64faaaa11c
CATEGORIES:6. Bezirk
CREATED:19700101T010000
SUMMARY:Bewegungswelt
LOCATION:6.\, Sandwirtgasse 13/12
DESCRIPTION:Spielgruppe Bewegungswelt (https://www.biolino.at/spielgruppen/bewegungswel
 t/)Für Kinder von 8 bis 18 Monaten \nSpielgruppe mit Bewegungsschwerpunkt\n
 - Kletterbogen\n- Kriechtunnel\n- Bewegungs-Landschaften\n- Ballspiele\n- S
 ing- und Tanzspiele\nDie Bewegungswelt  ist für Kinder von 8 Monaten - 1,5 
 Jahren. Wir krabbeln, kuscheln, singen, springen, kriechen und tanzen – und
  haben gemeinsam jede Menge Spaß. So stärken wir Körpergefühl, Grobmotorik 
 und die Lust, uns zu bewegen. Wir zeigen dir, wie du aus einfachen Alltagsg
 egenständen und Möbeln attraktive Bewegungswelten für dein Kind zaubern kan
 nst.\nTermine im Wintersemester 2018/19März 2019 5.3., 12.3., 19.3., 26.3.,
 \nApril 2019 2.4., 9.4., 30.4.,\nMai 2019 7.5., 14.5., 21.5, 28.5.,\nJuni 2
 019 4.6., 12.6., 18.6., 25.6.;\n \nEinstieg jederzeit möglich mit der flexi
 blen Blockkarte (https://www.app.anoah.at/page/f?apiKey=d5ba690e090442e0adb
 5861b99d5425f)!\nwww.biolino.at (http://www.biolino.at)\nmartina.novak@biol
 ino.at, (mailto:martina.novak@biolino.at,) 0677 628 929 70\nSandwirtgasse 1
 3/12, 1060 Wien\n \nWir freuen uns auf euch! &lt;3\nMartina und das Biolino
  Team\n
X-ALT-DESC;FMTTYPE=text/html:<h2><a href="https://www.biolino.at/spielgruppen/bewegungswelt/">Spielgrupp
 e Bewegungswelt</a></h2><h3>Für Kinder von 8 bis 18 Monaten</h3><p> </p><p>
 <strong>Spielgruppe mit Bewegungsschwerpunkt</strong></p><p>- Kletterbogen<
 /p><p>- Kriechtunnel</p><p>- Bewegungs-Landschaften</p><p>- Ballspiele</p><
 p>- Sing- und Tanzspiele</p><p>Die <strong>Bewegungswelt</strong>  ist für 
 Kinder von <strong>8 Monaten - 1,5 Jahren</strong>. Wir krabbeln, kuscheln,
  singen, springen, kriechen und tanzen – und haben gemeinsam jede Menge Spa
 ß. So stärken wir Körpergefühl, Grobmotorik und die Lust, uns zu bewegen. W
 ir zeigen dir, wie du aus einfachen Alltagsgegenständen und Möbeln attrakti
 ve Bewegungswelten für dein Kind zaubern kannst.</p><h3>Termine im Winterse
 mester 2018/19</h3><p><strong>März 2019</strong> 5.3., 12.3., 19.3., 26.3.,
 </p><p><strong>April</strong> <strong>2019</strong> 2.4., 9.4., 30.4.,</p><
 p><strong>Mai 2019</strong> 7.5., 14.5., 21.5, 28.5.,</p><p><strong>Juni 20
 19</strong> 4.6., 12.6., 18.6., 25.6.;</p><p> </p><p>Einstieg jederzeit mög
 lich mit der flexiblen <a href="https://www.app.anoah.at/page/f?apiKey=d5ba
 690e090442e0adb5861b99d5425f">Blockkarte</a>!</p><p><a href="http://www.bio
 lino.at">www.biolino.at</a></p><p><a href="mailto:martina.novak@biolino.at,
 ">martina.novak@biolino.at,</a> 0677 628 929 70</p><p>Sandwirtgasse 13/12, 
 1060 Wien</p><p> </p><p>Wir freuen uns auf euch! &lt;3</p><p>Martina und da
 s Biolino Team</p>
CONTACT:martina.novak@biolino.at, 077 628 929 70
X-EXTRAINFO:[preis='1500'][anmeldung='true']
DTSTAMP:20260423T225404
DTSTART:20190305T100000
DTEND:20190305T110000
SEQUENCE:0
RRULE:FREQ=WEEKLY;UNTIL=20190626T000000Z;INTERVAL=1;BYDAY=TU
TRANSP:OPAQUE
END:VEVENT
END:VCALENDAR