BEGIN:VCALENDAR
VERSION:2.0
PRODID:-//jEvents 2.0 for Joomla//EN
CALSCALE:GREGORIAN
METHOD:PUBLISH
BEGIN:VEVENT
UID:689cd3e746ef7ed31c2793d663f6638d
CATEGORIES:6. Bezirk
CREATED:19700101T010000
SUMMARY:Bewegungswelt mit Musik
LOCATION:6.\, Sandwirtgasse 13/12
DESCRIPTION:Spielgruppe Bewegungswelt (https://www.biolino.at/spielgruppen/bewegungswel
 t/) mit MusikFür Kinder von 10 bis 20 Monaten \nSpielgruppe mit Schwerpunkt
  Bewegung und Musik\n- Kletterbogen\n- Kriechtunnel\n- Bewegungs-Landschaft
 en\n- Ballspiele\n- Sing- und Tanzspiel mit Musik\nDie Bewegungswelt mit Mu
 sik ist für Kinder von 10 - 20 Monaten. Wir krabbeln, kuscheln, singen, spr
 ingen, kriechen und tanzen – und haben gemeinsam jede Menge Spaß. So stärke
 n wir Körpergefühl, Grobmotorik und die Lust, uns zu bewegen. Wir singen un
 d spielen gemeinsam Bewegungslieder, die du ganz einfach mit deinem Kind zu
  Hause umsetzen kannst. \nTermine im Sommersemster 2019März 2019 7.3., 14.3
 ., 21.3., 28.3.,\nApril 2019 4.4., 11.4., 25.4.,\nMai 2019  2.5., 9.5., 16.
 5., 23.5.,\nJuni 2019  6.6., 14.6., 27.6.,\nEinstieg jederzeit möglich mit 
 der flexiblen Blockkarte (https://www.app.anoah.at/page/f?apiKey=d5ba690e09
 0442e0adb5861b99d5425f)!\nwww.biolino.at (http://www.biolino.at)\nmartina.n
 ovak@biolino.at, (mailto:martina.novak@biolino.at,) 0677 628 929 70\nSandwi
 rtgasse 13/12, 1060 Wien\n \nWir freuen uns auf euch! &lt;3\nMartina und da
 s Biolino Team\n
X-ALT-DESC;FMTTYPE=text/html:<h2><a href="https://www.biolino.at/spielgruppen/bewegungswelt/">Spielgrupp
 e Bewegungswelt</a> mit Musik</h2><h3>Für Kinder von 10 bis 20 Monaten</h3>
 <p> </p><p><strong>Spielgruppe mit Schwerpunkt Bewegung und Musik</strong><
 /p><p>- Kletterbogen</p><p>- Kriechtunnel</p><p>- Bewegungs-Landschaften</p
 ><p>- Ballspiele</p><p>- Sing- und Tanzspiel mit Musik</p><p>Die <strong>Be
 wegungswelt mit Musik </strong>ist für Kinder von <strong>10 - 20 Monaten.<
 /strong> Wir krabbeln, kuscheln, singen, springen, kriechen und tanzen – un
 d haben gemeinsam jede Menge Spaß. So stärken wir Körpergefühl, Grobmotorik
  und die Lust, uns zu bewegen. Wir singen und spielen gemeinsam Bewegungsli
 eder, die du ganz einfach mit deinem Kind zu Hause umsetzen kannst. </p><h3
 >Termine im Sommersemster 2019</h3><p><strong>März 2019</strong> 7.3., 14.3
 ., 21.3., 28.3.,</p><p><strong>April 2019</strong> 4.4., 11.4., 25.4.,</p><
 p><strong>Mai 2019</strong>  2.5., 9.5., 16.5., 23.5.,</p><p><strong>Juni 2
 019</strong>  6.6., 14.6., 27.6.,</p><p>Einstieg jederzeit möglich mit der 
 flexiblen <a href="https://www.app.anoah.at/page/f?apiKey=d5ba690e090442e0a
 db5861b99d5425f">Blockkarte</a>!</p><p><a href="http://www.biolino.at">www.
 biolino.at</a></p><p><a href="mailto:martina.novak@biolino.at,">martina.nov
 ak@biolino.at,</a> 0677 628 929 70</p><p>Sandwirtgasse 13/12, 1060 Wien</p>
 <p> </p><p>Wir freuen uns auf euch! &lt;3</p><p>Martina und das Biolino Tea
 m</p>
CONTACT:martina.novak@biolino.at, 0677 628 929 70
X-EXTRAINFO:[preis='1500'][anmeldung='true']
DTSTAMP:20260423T194940
DTSTART:20190314T083000
DTEND:20190314T093000
SEQUENCE:0
RRULE:FREQ=WEEKLY;UNTIL=20190628T000000Z;INTERVAL=1;BYDAY=TH
EXDATE:20190418T073000,20190530T073000,20190620T073000
TRANSP:OPAQUE
END:VEVENT
END:VCALENDAR