BEGIN:VCALENDAR
VERSION:2.0
PRODID:-//jEvents 2.0 for Joomla//EN
CALSCALE:GREGORIAN
METHOD:PUBLISH
BEGIN:VEVENT
UID:ad07f6ba2aa2f4e4025138686c863163
CATEGORIES:6. Bezirk
CREATED:19700101T010000
SUMMARY:offene Hebammen Sprechstunde
LOCATION:6.\, Sandwirtgasse 13/12
DESCRIPTION:offene Hebammen Sprechstunde (https://www.biolino.at/hebammen-sprechstunde/
 )Austauschrunde in gemütlicher AtmosphäreBei biologischem Tee und Knabberei
 en kannst du dich mit Hebamme Sabine und anderen Müttern über Themen wie da
 s Stillen, Fläschchen und Beikost austauschen.\nWir laden dich ein, mit uns
  und anderen Frauen ihr Bedürfnis nach Austausch zum Leben mit ihren Babys 
 zu stillen. Hebamme Sabine nimmt sich in einer entspannten ruhigen Atmosphä
 re ganz viel Zeit für dich und beantwortet alle deine Fragen zum Stillen un
 d Leben mit Baby. Sie gibt Anregungen, Hilfe und Tipps zu: Stillpositionen,
  Fläschchen oder Beikost, unruhigen und schlaflosen Nächten, deiner Mutterr
 olle, Partnerschaft, Verhütung, zum sanften Abstillen und vielem mehr.\nHeb
 amme Sabine Payer, selbst Mutter eines  einjährigen Sohnes, ist Expertin un
 d Ansprechpartnerin für Familienplanung, Schwangerschaft, Geburt und die er
 ste Zeit als Familie. Als Hebamme greift sie auf einen reichen Erfahrungssc
 hatz zu und arbeitet nach dem neuesten Stand der Wissenschaft.\n \nWann: do
 nnerstags (außer an den schulfreien Tagen)\nUhrzeit: 13.00 - 14.30 Uhr\nWo:
  Biolino Institut,\nSandwirtgasse 13, 1060 Wien\nKosten: € 9,- Unkostenbeit
 rag pro Familie,\ninkl. Tee und Knabbereien\n \nKEINE ANMELDUNG ERFORDERLIC
 H!\nTermine im Sommersemester 201907.03.2019  Unruhige und schlaflose Nächt
 e\n14.03.2019  Ernährung beim Säugling und Kleinkind\n28.03.2019  Sanftes A
 bstillen - was bedeutet das?\n04.04.2019  Handynutzung - Auswirkungen auf B
 abys und Kleinkinder\n11.04.2019  Zahnpflege bei Säuglingen und Kleinkinder
 n\n25.04.2019  Reisen mit Baby und Kleinkind\n02.05.2019  „Eigentlich sollt
  ich glücklich sein…“\n09.05.2019  Ein Geschwisterkind kommt\n16.05.2019 Na
 türliche Familienplanung\n25.05.2019 Einblick in die Babymassage\n06.06.201
 9 „Väter-Nachmittag“: Austauschrunde für Papas\n20.06.2019 Wenn die Geburt 
 anders als erwünscht verlaufen ist\n27.06.2019 Reisen mit Baby und Kleinkin
 d\nSchau vorbei zum Austauschen und Plaudern. \nDie Hebammensprechstunde is
 t kein Angebot vom Biolino Institut. Es gelten die ABGs von Hebamme Sabine 
 Payer.\n
X-ALT-DESC;FMTTYPE=text/html:<h1><a href="https://www.biolino.at/hebammen-sprechstunde/">offene Hebammen
  Sprechstunde</a></h1><h2>Austauschrunde in gemütlicher Atmosphäre</h2><p><
 strong>Bei biologischem Tee und Knabbereien kannst du dich mit Hebamme Sabi
 ne und anderen Müttern über Themen wie das Stillen, Fläschchen und Beikost 
 austauschen.</strong></p><p>Wir laden dich ein, mit uns und anderen Frauen 
 ihr Bedürfnis nach Austausch zum Leben mit ihren Babys zu stillen. Hebamme 
 Sabine nimmt sich in einer entspannten ruhigen Atmosphäre ganz viel Zeit fü
 r dich und beantwortet alle deine Fragen zum Stillen und Leben mit Baby. Si
 e gibt Anregungen, Hilfe und Tipps zu: Stillpositionen, Fläschchen oder Bei
 kost, unruhigen und schlaflosen Nächten, deiner Mutterrolle, Partnerschaft,
  Verhütung, zum sanften Abstillen und vielem mehr.</p><p>Hebamme <strong>Sa
 bine Payer</strong>, selbst Mutter eines  einjährigen Sohnes, ist Expertin 
 und Ansprechpartnerin für Familienplanung, Schwangerschaft, Geburt und die 
 erste Zeit als Familie. Als Hebamme greift sie auf einen reichen Erfahrungs
 schatz zu und arbeitet nach dem neuesten Stand der Wissenschaft.</p><p> </p
 ><p><strong>Wann</strong>: donnerstags (außer an den schulfreien Tagen)</p>
 <p><strong>Uhrzeit</strong>: 13.00 - 14.30 Uhr</p><p><strong>Wo</strong>: B
 iolino Institut,</p><p>Sandwirtgasse 13, 1060 Wien</p><p><strong>Kosten</st
 rong>: € 9,- Unkostenbeitrag pro Familie,</p><p>inkl. Tee und Knabbereien</
 p><p> </p><p><strong>KEINE ANMELDUNG ERFORDERLICH!</strong></p><h2>Termine 
 im Sommersemester 2019</h2><p><strong>07.03.2019</strong>  Unruhige und sch
 laflose Nächte</p><p><strong>14.03.2019</strong>  Ernährung beim Säugling u
 nd Kleinkind</p><p><strong>28.03.2019</strong>  Sanftes Abstillen - was bed
 eutet das?</p><p><strong>04.04.2019</strong>  Handynutzung - Auswirkungen a
 uf Babys und Kleinkinder</p><p><strong>11.04.2019</strong>  Zahnpflege bei 
 Säuglingen und Kleinkindern</p><p><strong>25.04.2019</strong>  Reisen mit B
 aby und Kleinkind</p><p><strong>02.05.2019</strong>  „Eigentlich sollt ich 
 glücklich sein…“</p><p><strong>09.05.2019</strong>  Ein Geschwisterkind kom
 mt</p><p><strong>16.05.2019</strong> Natürliche Familienplanung</p><p><stro
 ng>25.05.2019</strong> Einblick in die Babymassage</p><p><strong>06.06.2019
 </strong> „Väter-Nachmittag“: Austauschrunde für Papas</p><p><strong>20.06.
 2019</strong> Wenn die Geburt anders als erwünscht verlaufen ist</p><p><str
 ong>27.06.2019</strong> Reisen mit Baby und Kleinkind</p><h3>Schau vorbei z
 um Austauschen und Plaudern.</h3><p> </p><p>Die Hebammensprechstunde ist ke
 in Angebot vom Biolino Institut. Es gelten die ABGs von Hebamme Sabine Paye
 r.</p>
CONTACT:hebamme.sabinepayer@gmail.com  Tel.: 0699/ 11 57 09 59 
X-EXTRAINFO:[preis='900'][anmeldung='false']
DTSTAMP:20260423T211415
DTSTART:20190307T120000
DTEND:20190307T133000
SEQUENCE:0
RRULE:FREQ=WEEKLY;UNTIL=20190628T000000Z;INTERVAL=1;BYDAY=TH
TRANSP:OPAQUE
END:VEVENT
END:VCALENDAR