BEGIN:VCALENDAR
VERSION:2.0
PRODID:-//jEvents 2.0 for Joomla//EN
CALSCALE:GREGORIAN
METHOD:PUBLISH
BEGIN:VEVENT
UID:b30428c75a912864bf57946f65e700dc
CATEGORIES:6. Bezirk
CREATED:20190303T210058
SUMMARY:Familien-Atelier
LOCATION:6.\, Sandwirtgasse 13/12
DESCRIPTION:Biolino Familien-AtelierIm Biolino Familien-Atelier können große und kleine
  Künstlerinnen und Künstler nach Herzenslust mit unseren selbst hergestellt
 en Bio-Farben matschen und gatschen, ohne dass Mama oder Papa nachher aufrä
 umen müssen. Kommt gerne als Familie bei uns vorbei und verbringt einen kun
 terbunten Vormittag bei uns.\nProgrammWas erwartet dich?\nEs wird klebrig, 
 matschig, bröselig, kratzig: Sand, Erde, Getreidekörner, Holz und viele and
 ere haptische Anregungen warten auf experimentierfreudige Entdecker*innen. 
 Die Kinder können nach Herzenslust die Bio-Farben und Materialien mischen u
 nd dabei mit allen Sinnen erleben, wie sie ihre Eigenschaften verändern.\nA
 m Ende gibt es für die Kleinen ein wohlig warmes Bad und ihr geht mit einem
  selbstgebastelten Andenken stolz nach Hause.\nDu kennst das bestimmt: Manc
 hen Kindern gefallen sandige Hände und klebrige Füße sehr, andere wiederum 
 brauchen Zeit, um sich damit anzufreunden. Genau diese Zeit und den Freirau
 m geben wir dir und deinem Kind im Biolino Familien-Atelier. Damit folgen w
 ir auch der Idee von Pädagoge Arno Stern, der das hemmungslose, spielerisch
 e Malen und Experimentieren als "Rückkehr zum wahren Wesen" sieht.\n \nFür 
 Kinder vom Sitzalter bis 4 Jahre.\nTermine im Biolino Familien-Atelier24. M
 ärz 2019UHRZEIT: 10.00 - 12.00\n KOSTEN: € 29,- für die ganze Familie\n ink
 lusive Material und Jause\n\nMelde dich bitte hier an. (https://www.app.ano
 ah.at/event/listFromExtern?system=mnovak&amp;activity=1872)\nWir bitten um 
 dein Verständnis, dass die Teilnahme nur mit Anmeldung möglich ist. Danke s
 ehr.\n \nWir freuen uns auf einen kreativen Vormittag mit dir und deiner Fa
 milie.\nMartina und das Biolino Team &lt;3\n
X-ALT-DESC;FMTTYPE=text/html:<h1>Biolino Familien-Atelier</h1><p>Im Biolino Familien-Atelier können groß
 e und kleine Künstlerinnen und Künstler nach Herzenslust mit unseren selbst
  hergestellten Bio-Farben matschen und gatschen, ohne dass Mama oder Papa n
 achher aufräumen müssen. Kommt gerne als Familie bei uns vorbei und verbrin
 gt einen kunterbunten Vormittag bei uns.</p><h3>Programm</h3><p><strong>Was
  erwartet dich?</strong></p><p>Es wird klebrig, matschig, bröselig, kratzig
 : Sand, Erde, Getreidekörner, Holz und viele andere haptische Anregungen wa
 rten auf experimentierfreudige Entdecker*innen. Die Kinder können nach Herz
 enslust die Bio-Farben und Materialien mischen und dabei mit allen Sinnen e
 rleben, wie sie ihre Eigenschaften verändern.</p><p>Am Ende gibt es für die
  Kleinen ein wohlig warmes Bad und ihr geht mit einem selbstgebastelten And
 enken stolz nach Hause.</p><p>Du kennst das bestimmt: Manchen Kindern gefal
 len sandige Hände und klebrige Füße sehr, andere wiederum brauchen Zeit, um
  sich damit anzufreunden. Genau diese Zeit und den Freiraum geben wir dir u
 nd deinem Kind im Biolino Familien-Atelier. Damit folgen wir auch der Idee 
 von Pädagoge Arno Stern, der das hemmungslose, spielerische Malen und Exper
 imentieren als "Rückkehr zum wahren Wesen" sieht.</p><p> </p><p><strong>Für
  Kinder vom Sitzalter bis 4 Jahre.</strong></p><h2>Termine im Biolino Famil
 ien-Atelier</h2><h3>24. März 2019</h3><p><strong>UHRZEIT</strong>: 10.00 - 
 12.00<br /> <strong>KOSTEN</strong>: € 29,- für die ganze Familie<br /> <em
 >inklusive Material und Jause<br /></em></p><p><a href="https://www.app.ano
 ah.at/event/listFromExtern?system=mnovak&amp;activity=1872"><strong>Melde d
 ich bitte hier an.</strong></a></p><p>Wir bitten um dein Verständnis, dass 
 die Teilnahme nur mit Anmeldung möglich ist. Danke sehr.</p><p> </p><p><str
 ong>Wir freuen uns auf einen kreativen Vormittag mit dir und deiner Familie
 .</strong></p><p><strong>Martina und das Biolino Team &lt;3</strong></p>
CONTACT:martina.novak@biolino.at, 0677 628 929 70
X-EXTRAINFO:[preis='2900'][anmeldung='true']
DTSTAMP:20260423T212029
DTSTART:20190324T090000
DTEND:20190324T110000
SEQUENCE:0
TRANSP:OPAQUE
END:VEVENT
END:VCALENDAR