BEGIN:VCALENDAR
VERSION:2.0
PRODID:-//jEvents 2.0 for Joomla//EN
CALSCALE:GREGORIAN
METHOD:PUBLISH
BEGIN:VEVENT
UID:5ec5e430d35e78f8ba7d0e755898a713
CATEGORIES:6. Bezirk
CREATED:20190303T210413
SUMMARY:Osterbasteln (1,5 - 3 Jahre)
LOCATION:6.\, Sandwirtgasse 13/12
DESCRIPTION:<div id="cc-m-11538236997" class="j-module n j-header "><h1 id="cc-m-header
 -11538236997" class=""><a href="https://www.biolino.at/osterbasteln/">Oster
 basteln für Kinder</a></h1></div><div id="cc-m-11538237097" class="j-module
  n j-textWithImage "><div><div id="cc-m-textwithimage-11538237097" class="c
 c-m-textwithimage-inline-rte" data-name="text" data-action="text"><p>Für Ki
 nder von 1,5 bis 3 Jahren.</p><p>Die Vögel zwitschern es von den Bäumen - d
 er Osterhase kommt schon bald. Wir veranstalten wieder unser alljährlich be
 liebtes Osterbasteln.</p></div></div></div><div id="cc-m-11538237197" class
 ="j-module n j-header "><h3 id="cc-m-header-11538237197" class="">Programm<
 /h3></div><div id="cc-m-11538237297" class="j-module n j-text "><p>Was erwa
 rtet dich?</p><p>Hoppel, hoppel, der Osterhase kommt schon bald.</p><p>Komm
  vorbei und bastel mit uns frühlingshafte Osterdekoration, ein kleines Gesc
 henk für einen lieben Menschen und natürlich ein Osterkörbchen, in das der 
 Osterhase die bunt bemalten Eier legen kann. Wenn du möchtest, darfst du au
 ch ein paar Ostereier bemalen. Wir bereiten Stationen vor und begleiten dic
 h und dein Kind bei eurem kreativen Tun. Zur Stärkung gibt es eine leckere 
 Osterjause für euch.</p><p>Für Kinder von 1,5 bis 3 Jahren.</p><p> </p></di
 v><div id="cc-m-11538237597" class="j-module n j-header "><h3 id="cc-m-head
 er-11538237597" class="">05. April 2019</h3></div><div id="cc-m-11538237697
 " class="j-module n j-hgrid "><div class="cc-m-hgrid-column" style="width: 
 49%;"><div id="cc-matrix-3164149497"><div id="cc-m-11538237797" class="j-mo
 dule n j-text "><p><strong>UHRZEIT</strong>: 15.00 - 16.30<br /> <strong>KO
 STEN</strong>: € 29,-<br /> <strong>GESCHWISTERKIND</strong>: € 17,-<br /> 
 <em>inkl. Bastelmaterial und Jause<br /></em></p><p><a title="https://bit.l
 y/2EbtLZ0" href="https://bit.ly/2EbtLZ0" target="_blank" rel="noopener nore
 ferrer"><strong>Melde dich hier an.</strong></a></p></div></div></div></div
 ><div id="cc-m-11538237897" class="j-module n j-text "><p>Wir bitten um dei
 n Verständnis, dass die Teilnahme  nur mit Anmeldung möglich ist. Danke seh
 r.</p><p>Bitte zieht euch Kleidung an, die bunt werden darf.</p><p>Für eure
  Kunstwerke nehmt bitte ein Sackerl mit zum nach Hause tragen.</p><p> </p><
 p><strong>Wir freuen uns auf einen kreativen Nachmittag mit euch.</strong><
 /p><p><strong>Martina und das Biolino Team &lt;3</strong></p></div>
X-ALT-DESC;FMTTYPE=text/html:<div id="cc-m-11538236997" class="j-module n j-header "><h1 id="cc-m-header
 -11538236997" class=""><a href="https://www.biolino.at/osterbasteln/">Oster
 basteln für Kinder</a></h1></div><div id="cc-m-11538237097" class="j-module
  n j-textWithImage "><div><div id="cc-m-textwithimage-11538237097" class="c
 c-m-textwithimage-inline-rte" data-name="text" data-action="https://babymam
 as.at/text"><p>Für Kinder von 1,5 bis 3 Jahren.</p><p>Die Vögel zwitschern 
 es von den Bäumen - der Osterhase kommt schon bald. Wir veranstalten wieder
  unser alljährlich beliebtes Osterbasteln.</p></div></div></div><div id="cc
 -m-11538237197" class="j-module n j-header "><h3 id="cc-m-header-1153823719
 7" class="">Programm</h3></div><div id="cc-m-11538237297" class="j-module n
  j-text "><p>Was erwartet dich?</p><p>Hoppel, hoppel, der Osterhase kommt s
 chon bald.</p><p>Komm vorbei und bastel mit uns frühlingshafte Osterdekorat
 ion, ein kleines Geschenk für einen lieben Menschen und natürlich ein Oster
 körbchen, in das der Osterhase die bunt bemalten Eier legen kann. Wenn du m
 öchtest, darfst du auch ein paar Ostereier bemalen. Wir bereiten Stationen 
 vor und begleiten dich und dein Kind bei eurem kreativen Tun. Zur Stärkung 
 gibt es eine leckere Osterjause für euch.</p><p>Für Kinder von 1,5 bis 3 Ja
 hren.</p><p> </p></div><div id="cc-m-11538237597" class="j-module n j-heade
 r "><h3 id="cc-m-header-11538237597" class="">05. April 2019</h3></div><div
  id="cc-m-11538237697" class="j-module n j-hgrid "><div class="cc-m-hgrid-c
 olumn" style="width: 49%;"><div id="cc-matrix-3164149497"><div id="cc-m-115
 38237797" class="j-module n j-text "><p><strong>UHRZEIT</strong>: 15.00 - 1
 6.30<br /> <strong>KOSTEN</strong>: € 29,-<br /> <strong>GESCHWISTERKIND</s
 trong>: € 17,-<br /> <em>inkl. Bastelmaterial und Jause<br /></em></p><p><a
  title="https://bit.ly/2EbtLZ0" href="https://bit.ly/2EbtLZ0" target="_blan
 k" rel="noopener noreferrer"><strong>Melde dich hier an.</strong></a></p></
 div></div></div></div><div id="cc-m-11538237897" class="j-module n j-text "
 ><p>Wir bitten um dein Verständnis, dass die Teilnahme  nur mit Anmeldung m
 öglich ist. Danke sehr.</p><p>Bitte zieht euch Kleidung an, die bunt werden
  darf.</p><p>Für eure Kunstwerke nehmt bitte ein Sackerl mit zum nach Hause
  tragen.</p><p> </p><p><strong>Wir freuen uns auf einen kreativen Nachmitta
 g mit euch.</strong></p><p><strong>Martina und das Biolino Team &lt;3</stro
 ng></p></div>
CONTACT:martina.novak@biolino.at, 0677 628 929 70
X-EXTRAINFO:[preis='2900'][anmeldung='true']
DTSTAMP:20260425T122017
DTSTART:20190405T133000
DTEND:20190405T143000
SEQUENCE:0
TRANSP:OPAQUE
END:VEVENT
END:VCALENDAR