BEGIN:VCALENDAR
VERSION:2.0
PRODID:-//jEvents 2.0 for Joomla//EN
CALSCALE:GREGORIAN
METHOD:PUBLISH
BEGIN:VEVENT
UID:5bf6bdf6b0d330b1ea2f7ae1504e0cea
CATEGORIES:6. Bezirk
CREATED:20190303T210604
SUMMARY:Kinder-Kram Flohmarkt
LOCATION:6.\, Sandwirtgasse 13/12
DESCRIPTION:Kinder-Kram FlohmarktVerkaufe deinen "Kinderkram" ?\nKleidung, Spielzeug, B
 ücher, Puzzle, Schuhe, Gummistiefel, Tragetücher, Trage-Cover und viele meh
 r.\n\nDein Standplatz: 15€\nAnmeldung bei Martina.novak@biolino.at\n\nBei f
 reiem Eintritt verköstigen wir dich und deine Familie mit biologischen Süßs
 peisen und Getränken.\nWir freuen uns auf dich :)\n \nAlles Liebe,\nMartina
  und das Biolino Team\n \nwww.biolino.at (http://www.biolino.at)\n
X-ALT-DESC;FMTTYPE=text/html:<div class="eventContent"><h1><span style="text-decoration: underline;"><st
 rong>Kinder-Kram Flohmarkt</strong></span></h1><p>Verkaufe deinen "Kinderkr
 am" ?<br />Kleidung, Spielzeug, Bücher, Puzzle, Schuhe, Gummistiefel, Trage
 tücher, Trage-Cover und viele mehr.<br /><br />Dein Standplatz: 15€<br />An
 meldung bei Martina.novak@biolino.at<br /><br />Bei freiem Eintritt verköst
 igen wir dich und deine Familie mit biologischen Süßspeisen und Getränken.<
 br />Wir freuen uns auf dich :)</p><p> </p><p>Alles Liebe,</p><p>Martina un
 d das Biolino Team</p><p> </p><p><a href="http://www.biolino.at">www.biolin
 o.at</a></p></div>
CONTACT:martina.novak@biolino.at, 0677 628 929 70
DTSTAMP:20260425T002320
DTSTART:20190526T110000
DTEND:20190526T150000
SEQUENCE:0
TRANSP:OPAQUE
END:VEVENT
END:VCALENDAR