BEGIN:VCALENDAR
VERSION:2.0
PRODID:-//jEvents 2.0 for Joomla//EN
CALSCALE:GREGORIAN
METHOD:PUBLISH
BEGIN:VEVENT
UID:769aa2db84484b0d657ce4befa6403b6
CATEGORIES:18. Bezirk
CREATED:20190304T120414
SUMMARY:Still- und Austauschgruppe
LOCATION:SPIELRINGEL Mollgasse 11-13
DESCRIPTION:Aller Anfang ist schwer - oder doch nicht?\nUm das Stillen ranken sich viel
 e Mythen und dadurch entstehen Ängste. Oft stellen sich werdende Mütter die
  Frage "Werde ich stillen können?" und werden von Sorgen geplagt, wie "In m
 einer Familie hatten alle Frauen wenig Milch, das betrifft mich sicherlich 
 auch." oder "Mein Baby will ständig an die Brust, es reicht ihm wohl nicht"
 .\nIn dieser Stillgruppe möchte ich frischgebackenen Mamas, aber auch werde
 nden Mamas die Möglichkeit des Austausches geben. Unklarheiten werden bespr
 ochen und für euch individuelle Möglichkeiten gefunden, eine harmonische St
 illbeziehung aufbauen zu können.\nSollte es mit dem Stillen nicht so gut kl
 appen, oder ihr euch mit dem Thema unwohl fühlen, stehe ich euch selbstvers
 tändlich auch gerne jederzeit mit Rat und Tat zur Seite.\nKurstag: \n Monta
 g 09:30-11:00 Uhr\nTermine: \n 14-tägig mit IBCLC Stillberaterin Nina (http
 ://schwangerschaft-elternschaft.at/das-team/nina/)\nnächste Termine: 14.1.,
  28.1., 11.2., 25.2., 11.3., 25.3., 8.4.\nKosten:\n 10 Euro\nInfo &amp; Anm
 eldung:\n ohne Anmeldung - komm einfach vorbei!\n
X-ALT-DESC;FMTTYPE=text/html:<p>Aller Anfang ist schwer - oder doch nicht?</p><p>Um das Stillen ranken s
 ich viele Mythen und dadurch entstehen Ängste. Oft stellen sich werdende Mü
 tter die Frage "Werde ich stillen können?" und werden von Sorgen geplagt, w
 ie "In meiner Familie hatten alle Frauen wenig Milch, das betrifft mich sic
 herlich auch." oder "Mein Baby will ständig an die Brust, es reicht ihm woh
 l nicht".</p><p>In dieser Stillgruppe möchte ich frischgebackenen Mamas, ab
 er auch werdenden Mamas die Möglichkeit des Austausches geben. Unklarheiten
  werden besprochen und für euch individuelle Möglichkeiten gefunden, eine h
 armonische Stillbeziehung aufbauen zu können.</p><p>Sollte es mit dem Still
 en nicht so gut klappen, oder ihr euch mit dem Thema unwohl fühlen, stehe i
 ch euch selbstverständlich auch gerne jederzeit mit Rat und Tat zur Seite.<
 /p><p><span class="text-primary">Kurstag: </span><br /> Montag 09:30-11:00 
 Uhr</p><p><span class="text-primary">Termine:</span> <br /> 14-tägig mit IB
 CLC Stillberaterin <a href="http://schwangerschaft-elternschaft.at/das-team
 /nina/">Nina</a></p><p>nächste Termine: 14.1., 28.1., 11.2., 25.2., 11.3., 
 25.3., 8.4.</p><p><span class="text-primary">Kosten:</span><br /> 10 Euro</
 p><p><span class="text-primary">Info &amp; Anmeldung:</span><br /> ohne Anm
 eldung - komm einfach vorbei!</p>
CONTACT:http://schwangerschaft-elternschaft.at/angebote/beratung-begleitung/still-und-austauschgruppe/ (http://schwangerschaft-elternschaft.at/angebote/beratung-begleitung/still-und-austauschgruppe/)
X-EXTRAINFO:[preis='1000'][anmeldung='false']
DTSTAMP:20260425T134410
DTSTART:20190311T083000
DTEND:20190311T100000
SEQUENCE:0
TRANSP:OPAQUE
END:VEVENT
END:VCALENDAR