BEGIN:VCALENDAR
VERSION:2.0
PRODID:-//jEvents 2.0 for Joomla//EN
CALSCALE:GREGORIAN
METHOD:PUBLISH
BEGIN:VEVENT
UID:7b06a90c1a504f8ebc7439867b91b985
CATEGORIES:18. Bezirk
CREATED:20190304T121242
SUMMARY:Kreative Freude "Hasen und Küken"
LOCATION:SPIELRINGEL Mollgasse 11-13
DESCRIPTION:Bei der Kreativen Freude geht es weniger um das Endprodukt, als um den Spaß
  und die Freude beim Kreativ sein.\nEs werden verschiedene Bastelmaterialie
 n und Ideen zu einem Thema zur Verfügung gestellt und die Kinder dürfen nac
 h Lust und Laune werken.\nWir malen, basteln, schnippseln, stempeln, stanze
 n, kleben, formen, usw .-  daher ist es sinnvoll, Gewand, das auch schmutzi
 g werden darf, anzuziehen.\nKurstag:\n Mittwoch 14:30-16:00 mit Claudia (ht
 tp://schwangerschaft-elternschaft.at/das-team/claudia/)\nNächste Termine un
 d Themen:\n13.03.2019 Hasen und Küken\n27.03.2019 Ei, Ei, Ei...\n10.04.2019
  Das große Osterbasteln\n24.04.2019 Das große Muttertagsbasteln\n15.05.2019
  Raupen und Schnecken\n29.05.2019 Das große Vatertagsbastelm\n12.06.2019 Sc
 hmetterlinge und Blumen\n26.06.2019 Mäuse und Elefanten\n \nKosten: € 20,- 
 pro Kind mit Begleitperson\nInfo &amp; Anmeldung:\n office@spielringel.at\n
X-ALT-DESC;FMTTYPE=text/html:<div id="c391" class="frame frame-default frame-type-textpic frame-backgrou
 nd- frame-no-backgroundimage frame-space-before-none frame-space-after-none
 "><div class="frame-container"><div class="frame-inner"><p>Bei der Kreative
 n Freude geht es weniger um das Endprodukt, als um den Spaß und die Freude 
 beim Kreativ sein.</p><p>Es werden verschiedene Bastelmaterialien und Ideen
  zu einem Thema zur Verfügung gestellt und die Kinder dürfen nach Lust und 
 Laune werken.</p><p>Wir malen, basteln, schnippseln, stempeln, stanzen, kle
 ben, formen, usw .-  daher ist es sinnvoll, Gewand, das auch schmutzig werd
 en darf, anzuziehen.</p><p><span class="text-primary">Kurstag:</span><br />
  Mittwoch 14:30-16:00 mit <a href="http://schwangerschaft-elternschaft.at/d
 as-team/claudia/">Claudia</a></p><p><span class="text-primary">Nächste Term
 ine und Themen:</span></p><p>13.03.2019 Hasen und Küken</p><p>27.03.2019 Ei
 , Ei, Ei...</p><p>10.04.2019 Das große Osterbasteln</p><p>24.04.2019 Das gr
 oße Muttertagsbasteln</p><p>15.05.2019 Raupen und Schnecken</p><p>29.05.201
 9 Das große Vatertagsbastelm</p><p>12.06.2019 Schmetterlinge und Blumen</p>
 <p>26.06.2019 Mäuse und Elefanten</p><p> </p><p><span class="text-primary">
 Kosten: </span>€ 20,- pro Kind mit Begleitperson</p><p><span class="text-pr
 imary">Info &amp; Anmeldung:</span><br /> office@spielringel.at</p></div></
 div></div>
CONTACT:http://schwangerschaft-elternschaft.at/angebote/spiel-spass-musik/kreative-freude/ (http://schwangerschaft-elternschaft.at/angebote/spiel-spass-musik/kreative-freude/)
X-EXTRAINFO:[preis='2000'][anmeldung='true']
DTSTAMP:20260425T152808
DTSTART:20190313T133000
DTEND:20190313T150000
SEQUENCE:0
TRANSP:OPAQUE
END:VEVENT
END:VCALENDAR