BEGIN:VCALENDAR
VERSION:2.0
PRODID:-//jEvents 2.0 for Joomla//EN
CALSCALE:GREGORIAN
METHOD:PUBLISH
BEGIN:VEVENT
UID:61aeacb4e3d0c7bd75bfadef7527edab
CATEGORIES:18. Bezirk
CREATED:20190304T121533
SUMMARY:Kreative Freude "Ei, Ei, Ei"
LOCATION:SPIELRINGEL Mollgasse 11-13
DESCRIPTION:<div id="c391" class="frame frame-default frame-type-textpic frame-backgrou
 nd- frame-no-backgroundimage frame-space-before-none frame-space-after-none
 "><div class="frame-container"><div class="frame-inner"><p>Bei der Kreative
 n Freude geht es weniger um das Endprodukt, als um den Spaß und die Freude 
 beim Kreativ sein.</p><p>Es werden verschiedene Bastelmaterialien und Ideen
  zu einem Thema zur Verfügung gestellt und die Kinder dürfen nach Lust und 
 Laune werken.</p><p>Wir malen, basteln, schnippseln, stempeln, stanzen, kle
 ben, formen, usw .-  daher ist es sinnvoll, Gewand, das auch schmutzig werd
 en darf, anzuziehen.</p><div class="col-md-pull-6 col-md-6 col-xs-12"><p><s
 pan class="text-primary">Kurstag:</span><br /> Mittwoch 14:30-16:00 mit <a 
 href="http://schwangerschaft-elternschaft.at/das-team/claudia/">Claudia</a>
 </p><p><span class="text-primary">Nächste Termine und Themen:</span></p><p>
 27.03.2019 Ei, Ei, Ei...</p><p>10.04.2019 Das große Osterbasteln</p><p>24.0
 4.2019 Das große Muttertagsbasteln</p><p>15.05.2019 Raupen und Schnecken</p
 ><p>29.05.2019 Das große Vatertagsbastelm</p><p>12.06.2019 Schmetterlinge u
 nd Blumen</p><p>26.06.2019 Mäuse und Elefanten</p><p> </p><p><span class="t
 ext-primary">Kosten: </span>€ 20,- pro Kind mit Begleitperson</p><p><span c
 lass="text-primary">Info &amp; Anmeldung:</span><br /> office@spielringel.a
 t</p></div></div></div></div>
CONTACT:http://schwangerschaft-elternschaft.at/angebote/spiel-spass-musik/kreative-freude/ (http://schwangerschaft-elternschaft.at/angebote/spiel-spass-musik/kreative-freude/)
X-EXTRAINFO:[preis='2000'][anmeldung='true']
DTSTAMP:20260425T153215
DTSTART:20190327T133000
DTEND:20190327T150000
SEQUENCE:0
TRANSP:OPAQUE
END:VEVENT
END:VCALENDAR