BEGIN:VCALENDAR
VERSION:2.0
PRODID:-//jEvents 2.0 for Joomla//EN
CALSCALE:GREGORIAN
METHOD:PUBLISH
BEGIN:VEVENT
UID:01d3d0c782d5e56392ac610ad193df1e
CATEGORIES:18. Bezirk
CREATED:20190304T121705
SUMMARY: SEELENTRÖSTER Duftende Hilfe für Babys und Kinder
LOCATION:SPIELRINGEL Mollgasse 11-13
DESCRIPTION:<p><span class="text-primary">Termin:</span> <br /> Samstag, 23.März 2019<b
 r /> 14:00-17:00</p><p>mit Lisa Dirnbacher, BA von <a href="http://www.fein
 fuehlen.at/" target="_blank" rel="noopener noreferrer">feinfühlen</a></p><p
 ><span class="text-primary">Kosten: </span>€ 87,- </p><p><span class="text-
 primary">Info &amp; Anmeldung:</span><br /> Im Preis enthalten: Arbeitsmate
 rialien, Skriptum, Notizheft, Pausensnacks und Getränke<br /> Eine Teilnahm
 egebühr von 87 Euro, inkl. MwSt. kann vor Ort bezahlt werden.<br /> Anmeldu
 ngen telefonisch unter 0664 227 07 10 oder per Email unter praxis@feinfuehl
 en.at</p><div id="c397" class="frame frame-default frame-type-text frame-ba
 ckground- frame-no-backgroundimage frame-space-before-none frame-space-afte
 r-none"><div class="frame-container"><div class="frame-inner"><p>In diesem 
 Workshop befassen wir uns damit, welche Kräuter und ätherischen Öle Babys u
 nd Kinder bei seelischen Anliegen am besten unterstützen können. Wir befass
 en uns mit Angst- und Unruhezuständen, Anspannung und Konzentrationsschwier
 igkeiten bis hin zu Ein- und Durchschlafproblemen und betrachten, welchen B
 eitrag die Pflanzenwelt zur Linderung dieser Thematiken leisten kann.</p><p
 ><br /> THEMEN</p><p>- Welche Kräuter und Öle können mein Kind bei Probleme
 n seelischer Natur unterstützen?<br /> - Wie kann ich meinem Kind bei Ängst
 en, Unruhe, Anspannung und anderen Herausforderungen helfen?<br /> - Was mu
 ss ich bei der Anwendung von Kräutern und ätherischen Ölen beachten?</p><p>
 <br /> Was wir gemeinsam herstellen:<br /> 1x Schreck-lass-nach-Mischung (3
 0ml) • 1x Ruhepol-Öl (30 ml) • 1x Stärkungstee (30g)</p><p> </p></div></div
 ></div>
CONTACT:http://schwangerschaft-elternschaft.at/angebote/vortraege-workshops/seelentroester/ (http://schwangerschaft-elternschaft.at/angebote/vortraege-workshops/seelentroester/)
X-EXTRAINFO:[preis='8700'][anmeldung='true']
DTSTAMP:20260425T154054
DTSTART:20190323T130000
DTEND:20190323T160000
SEQUENCE:0
TRANSP:OPAQUE
END:VEVENT
END:VCALENDAR