BEGIN:VCALENDAR
VERSION:2.0
PRODID:-//jEvents 2.0 for Joomla//EN
CALSCALE:GREGORIAN
METHOD:PUBLISH
BEGIN:VEVENT
UID:a44231aa93b12d7bad412c22fc08f3fb
CATEGORIES:18. Bezirk
CREATED:19700101T010000
SUMMARY:Babymassagekurs mit Nina
LOCATION:SPIELRINGEL Mollgasse 11-13
DESCRIPTION:Für: Säuglinge ab ca. 6 Wochen bis ca. 6 Monaten (Krabbelalter)!\nRegelmäßi
 ge Babymassage…\n\n - stillt das Urbedürfnis nach Wärme, Liebe, Berührung, 
 der Geborgenheit und des Angenommenseins\n - der innige Körperkontakt förde
 rt den Aufbau des Urvertrauens und stärkt die Bindung zwischen Baby und Mam
 a\n - fördert die Entwicklung des Nervensystems\n - vertieft die Atmung, ve
 rbessert die Durchblutung, regt das Immunsystem an und stärkt somit den gan
 zen Organismus\n - intensiviert die Sinneswahrnehmung\n - lockert die Musku
 latur, verbessert das Körperbewusstsein und fördert die Beweglichkeit\n - v
 erringert Koliken und Bauchschmerzen und hilft bei Zahnungsbeschwerden\n - 
 schafft Entspannung, Harmonie und Ausgeglichenheit\n - fördert die Kommunik
 ation\n - erhöht die Oxytocinausschüttung bei Baby und Mama \nMitzubringen:
  Leintuch oder großes Handtuch als Auflage für die Matte, großes Handtuch f
 ür das Baby, Stoffwindel, Wickelunterlage, bequeme und luftige Kleidung für
  die Mamas/Papas\nTermine:\n3-Wochen-Kurs: 26.3., 2.4., 9.4.\nKosten:\n € 6
 5,- (3 Einheiten)\nInklusive Öl und Skript\n \nInfo &amp; Anmeldung:\nberat
 ung@tragehase.at (mailto:beratung@tragehase.at)\n
X-ALT-DESC;FMTTYPE=text/html:<p><strong>Für: </strong>Säuglinge ab ca. 6 Wochen bis ca. 6 Monaten (Krabb
 elalter)!</p><p>Regelmäßige Babymassage…</p><ul class="list-normal"><li>sti
 llt das Urbedürfnis nach Wärme, Liebe, Berührung, der Geborgenheit und des 
 Angenommenseins</li><li>der innige Körperkontakt fördert den Aufbau des Urv
 ertrauens und stärkt die Bindung zwischen Baby und Mama</li><li>fördert die
  Entwicklung des Nervensystems</li><li>vertieft die Atmung, verbessert die 
 Durchblutung, regt das Immunsystem an und stärkt somit den ganzen Organismu
 s</li><li>intensiviert die Sinneswahrnehmung</li><li>lockert die Muskulatur
 , verbessert das Körperbewusstsein und fördert die Beweglichkeit</li><li>ve
 rringert Koliken und Bauchschmerzen und hilft bei Zahnungsbeschwerden</li><
 li>schafft Entspannung, Harmonie und Ausgeglichenheit</li><li>fördert die K
 ommunikation</li><li>erhöht die Oxytocinausschüttung bei Baby und Mama</li>
 </ul><p> </p><p><strong>Mitzubringen:</strong> Leintuch oder großes Handtuc
 h als Auflage für die Matte, großes Handtuch für das Baby, Stoffwindel, Wic
 kelunterlage, bequeme und luftige Kleidung für die Mamas/Papas</p><p><span 
 class="text-primary">Termine:</span></p><p>3-Wochen-Kurs: 26.3., 2.4., 9.4.
 </p><p><span class="text-primary">Kosten:</span><br /> € 65,- (3 Einheiten)
 </p><p>Inklusive Öl und Skript</p><p> </p><p><span class="text-primary">Inf
 o &amp; Anmeldung:</span></p><p><a href="mailto:beratung@tragehase.at">bera
 tung@tragehase.at</a></p>
CONTACT:http://schwangerschaft-elternschaft.at/angebote/bewegung-entspannung/babymassage/
X-EXTRAINFO:[preis='6500'][anmeldung='true']
DTSTAMP:20260425T132638
DTSTART:20190326T093000
DTEND:20190326T102000
SEQUENCE:0
RRULE:FREQ=WEEKLY;UNTIL=20190410T000000Z;INTERVAL=1;BYDAY=TU
TRANSP:OPAQUE
END:VEVENT
END:VCALENDAR