BEGIN:VCALENDAR
VERSION:2.0
PRODID:-//jEvents 2.0 for Joomla//EN
CALSCALE:GREGORIAN
METHOD:PUBLISH
BEGIN:VEVENT
UID:cc801505e8efcfd92a4b0f683e08ac2f
CATEGORIES:18. Bezirk
CREATED:20190304T122633
SUMMARY:ElternBESTzeit "Eltern werden - Paar bleiben"
LOCATION:SPIELRINGEL Mollgasse 11-13
DESCRIPTION:25. März: Eltern werden - Paar bleiben\nEin Kind verwandelt uns zu einer Fa
 milie. Jetzt sind wir nicht nur Paar, sondern vor allem auch Eltern. Aber w
 ie bleibt man trotz durchwachter Nächte, stinkender Windeln und neben dem a
 nstrengenden Job des Elternseins auch noch ein Liebespaar? Wie schafft man 
 es als Eltern auf seine Beziehung zu schauen und diese nicht zu vernachläss
 igen?\n \nPreis: pro Abend €25,00 oder gemeinsam als Paar €40,00\n4er Block
  € 90,00\nInfo &amp; Anmeldung:\nClaudia@familientrainerin.com (mailto:Clau
 dia@familientrainerin.com)\nTeilnahme nur nach vorheriger Einzahlung. \nDam
 it ich genügend Zeit für Dich und Deine Anliegen &amp; Fragen habe, gibt es
  eine maximale Teilnehmerzahl von 10 Personen. \n
X-ALT-DESC;FMTTYPE=text/html:<div class="gmail_default"><p>25. März: Eltern werden - Paar bleiben</p></d
 iv><div class="gmail_default"><p>Ein Kind verwandelt uns zu einer Familie. 
 Jetzt sind wir nicht nur Paar, sondern vor allem auch Eltern. Aber wie blei
 bt man trotz durchwachter Nächte, stinkender Windeln und neben dem anstreng
 enden Job des Elternseins auch noch ein Liebespaar? Wie schafft man es als 
 Eltern auf seine Beziehung zu schauen und diese nicht zu vernachlässigen?</
 p><p> </p><p>Preis: pro Abend €25,00 oder gemeinsam als Paar €40,00</p><p>4
 er Block € 90,00</p><p><span class="text-primary">Info &amp; Anmeldung:</sp
 an></p><p><a href="mailto:Claudia@familientrainerin.com">Claudia@familientr
 ainerin.com</a></p><p>Teilnahme nur nach vorheriger Einzahlung. </p><p>Dami
 t ich genügend Zeit für Dich und Deine Anliegen &amp; Fragen habe, gibt es 
 eine maximale Teilnehmerzahl von 10 Personen. </p></div>
CONTACT:http://schwangerschaft-elternschaft.at/angebote/vortraege-workshops/elternbestzeit/ (http://schwangerschaft-elternschaft.at/angebote/vortraege-workshops/elternbestzeit/)
X-EXTRAINFO:[preis='2500'][anmeldung='true']
DTSTAMP:20260425T153757
DTSTART:20190325T183000
DTEND:20190325T200000
SEQUENCE:0
TRANSP:OPAQUE
END:VEVENT
END:VCALENDAR