BEGIN:VCALENDAR
VERSION:2.0
PRODID:-//jEvents 2.0 for Joomla//EN
CALSCALE:GREGORIAN
METHOD:PUBLISH
BEGIN:VEVENT
UID:fca664e6fa1e8a7085642e9df3cc00a4
CATEGORIES:22. Bezirk
CREATED:19700101T010000
SUMMARY:MAWIBA
LOCATION:Tanzschule Schwebach\, Maculangasse 1b\, 1220 Wien
DESCRIPTION:MAWIBA ist ein Tanzkonzept mit sanftem Beckenbodentraining für Schwangere u
 nd Mamas mit Babys, die Spaß am Tanzen haben. Gemeinsam mit einem Expertent
 eam entwickelt, bietet MAWIBA spezielle Choreografien zur Beckenbodenaktivi
 erung und Verbesserung der Körperhaltung.\n4-Wochen-Kurs\n\nDIENSTAG,   5.3
 .2019 von 10:00-11:00 Uhr\nDIENSTAG, 12.3.2019 von 10:00-11:00 Uhr\nDIENSTA
 G, 19.3.2019 von 10:00-11:00 Uhr\nDIENSTAG, 26.3.2019 von 10:00-11:00 Uhr\n
 Tanzschule Schwebach, Maculangasse 1b, 1220 Wien\nKurskosten: € 5,00 Schnup
 perstunde / € 13,00 Einzelstunde / € 50,00 für den 4 Wochenkurs.\nKursdauer
 : 60 min.\nDie Anmeldung läuft ?\nAnmeldung unter: bfink@mawibatrainer.com\
 n
X-ALT-DESC;FMTTYPE=text/html:<p>MAWIBA ist ein Tanzkonzept mit sanftem Beckenbodentraining für Schwanger
 e und Mamas mit Babys, die Spaß am Tanzen haben. Gemeinsam mit einem Expert
 enteam entwickelt, bietet MAWIBA spezielle Choreografien zur Beckenbodenakt
 ivierung und Verbesserung der Körperhaltung.</p><p><span style="text-decora
 tion: underline;">4-Wochen-Kurs</span><br /><span class="text_exposed_show"
 ><br />DIENSTAG,   5.3.2019 von 10:00-11:00 Uhr<br />DIENSTAG, 12.3.2019 vo
 n 10:00-11:00 Uhr<br />DIENSTAG, 19.3.2019 von 10:00-11:00 Uhr<br />DIENSTA
 G, 26.3.2019 von 10:00-11:00 Uhr</span></p><p><span class="text_exposed_sho
 w">Tanzschule Schwebach, Maculangasse 1b, 1220 Wien</span></p><p><span styl
 e="text-decoration: underline;">Kurskosten</span>: € 5,00 Schnupperstunde /
  € 13,00 Einzelstunde / € 50,00 für den 4 Wochenkurs.</p><p><span style="te
 xt-decoration: underline;">Kursdauer</span>: 60 min.</p><p>Die Anmeldung lä
 uft ?</p><p><span style="text-decoration: underline;">Anmeldung unter</span
 >: bfink@mawibatrainer.com</p>
CONTACT:bfink@mawibatrainer.com
X-EXTRAINFO:[preis='000'][anmeldung='true']
DTSTAMP:20260423T140049
DTSTART:20190305T090000
DTEND:20190305T100000
SEQUENCE:0
RRULE:FREQ=WEEKLY;UNTIL=20190327T000000Z;INTERVAL=1;BYDAY=TU
TRANSP:OPAQUE
END:VEVENT
END:VCALENDAR