BEGIN:VCALENDAR
VERSION:2.0
PRODID:-//jEvents 2.0 for Joomla//EN
CALSCALE:GREGORIAN
METHOD:PUBLISH
BEGIN:VEVENT
UID:f3a4487fb51215d73a8f5ee3adb7d6f9
CATEGORIES:1. Bezirk
CREATED:20190305T093925
SUMMARY:Tag der Eltern-Kind-Gruppen
LOCATION:1010 Wien\, Stephansplatz 3\, 2. Stock
DESCRIPTION:Ein Nachmittag für Eltern-Kind-Gruppenleiter/innen und die, die es werden w
 ollen: Zum Treffen, Austauschen, Lernen und Genießen. Hop-on-hop-off: Wir f
 reuen uns, wenn du von Anfang bis Ende da bist, du kannst aber zwischen den
  Impulsworkshops jederzeit ein- oder aussteigen. \nDas Angebot ist offen fü
 r alle interessierten Spielgruppenleiter/innen und konfessionsunabhängig.\n
 Programm:\n13:30 Ankommen und Büchertisch von www.diemobilebuchhandlung.at 
 (http://www.diemobilebuchhandlung.at) \n14:00 Kinder mit besonderen Bedürfn
 issen in Spielgruppen\n14:45 Upcycling Basteln mit kleinen Kindern\n15:30 K
 affeepause, MINT Aktionen zum Ausprobieren\n16:00 Arbeiten mit Kindern - un
 d immer gut gestylt! www.bykristina.at (http://www.bykristina.at)\n16:45 Ne
 ues aus der Spielpädagogik\n17:30 Essen in der Gruppe - Ideen für die Kinde
 rjause\n18:15 Jause und Austausch\nBitte um Anmeldung unter Anmeldung@bildu
 ngswerk.at (mailto:Anmeldung@bildungswerk.at) \n
X-ALT-DESC;FMTTYPE=text/html:<p><span style="font-family: Calibri; font-size: medium;">Ein Nachmittag fü
 r Eltern-Kind-Gruppenleiter/innen und die, die es werden wollen: Zum Treffe
 n, Austauschen, Lernen und Genießen. Hop-on-hop-off: Wir freuen uns, wenn d
 u von Anfang bis Ende da bist, du kannst aber zwischen den Impulsworkshops 
 jederzeit ein- oder aussteigen.</span><span style="font-family: Calibri; fo
 nt-size: medium;"> <br /></span><span style="font-family: Calibri; font-siz
 e: medium;">Das Angebot ist offen für alle interessierten Spielgruppenleite
 r/innen und konfessionsunabhängig.</span></p><p><span style="font-family: C
 alibri; font-size: medium;">Programm:</span></p><p><span style="font-family
 : Calibri; font-size: medium;">13:30 Ankommen und Büchertisch von <a href="
 http://www.diemobilebuchhandlung.at">www.diemobilebuchhandlung.at</a> </spa
 n></p><p><span style="font-family: Calibri; font-size: medium;">14:00 Kinde
 r mit besonderen Bedürfnissen in Spielgruppen</span></p><p><span style="fon
 t-family: Calibri; font-size: medium;">14:45 Upcycling Basteln mit kleinen 
 Kindern</span></p><p><span style="font-family: Calibri; font-size: medium;"
 >15:30 Kaffeepause, MINT Aktionen zum Ausprobieren</span></p><p><span style
 ="font-family: Calibri; font-size: medium;">16:00 Arbeiten mit Kindern - un
 d immer gut gestylt! <a href="http://www.bykristina.at">www.bykristina.at</
 a></span></p><p><span style="font-family: Calibri; font-size: medium;">16:4
 5 Neues aus der Spielpädagogik</span></p><p><span style="font-family: Calib
 ri; font-size: medium;">17:30 Essen in der Gruppe - Ideen für die Kinderjau
 se</span></p><p><span style="font-family: Calibri; font-size: medium;">18:1
 5 Jause und Austausch</span></p><p><span style="font-family: Calibri; font-
 size: medium;">Bitte um Anmeldung unter <a href="mailto:Anmeldung@bildungsw
 erk.at">Anmeldung@bildungswerk.at</a> </span></p>
CONTACT:anmeldung@bildungswerk.at
X-EXTRAINFO:[preis='000'][anmeldung='true']
DTSTAMP:20260425T134403
DTSTART:20190308T123000
DTEND:20190308T180000
SEQUENCE:0
TRANSP:OPAQUE
END:VEVENT
END:VCALENDAR