BEGIN:VCALENDAR
VERSION:2.0
PRODID:-//jEvents 2.0 for Joomla//EN
CALSCALE:GREGORIAN
METHOD:PUBLISH
BEGIN:VEVENT
UID:92d767f9b0e47da27841d890b8aae92b
CATEGORIES:6. Bezirk
CREATED:19700101T010000
SUMMARY:Rückbildung & Babymassage
LOCATION:Loquaiplatz 12/1\, 1060 Wien
DESCRIPTION:<h1 class="subtitle">RÜCKBILDUNG - DIE KRAFT DER MITTE</h1><p>Die Zeit der 
 Schwangerschaft und der Geburt und eine ganz besondere Phase im Leben einer
  Frau. Der Körper durchläuft in dieser Zeit eine Vielzahl an Veränderungen.
  Sportliche Aktivitäten wurden vielleicht zurückgestellt oder es war einfac
 h keine Zeit mehr dafür. Nach der Geburt liegt der Fokus sehr beim neuen Fa
 milienmitglied. Dieser Kurs richtet sich an alle Frauen, die sich Zeit nehm
 en wollen, ihrem Körper wieder etwas Gutes zu tun.<br /><br />Der Schwerpun
 kt dieses Kurses liegt in der Rückgewinnung der Kraft in Bereichen des Körp
 ers, wo die Schwangerschaft sichtbar geworden ist und „Eindruck“ hinterlass
 en hat. Der Rumpf, der Bauch, der Rücken, die Beine werden gestärkt. Der Be
 ckenboden – vielen ein Mysterium – wird erspürt, erlebt und gestärkt. Denn 
 die Lebensqualität einer Frau hängt unmittelbar mit dem Zustand ihres Becke
 nbodens zusammen. So werden alle Elemente des Körpers gespürt und gestärkt.
 <br /><br />Bei alledem darf dein Baby natürlich nicht fehlen. Die Übungen 
 werden von unserer Hebamme Magdalena Mittler so konzipiert, dass dein Kind 
 eingebunden wird, wodurch der Kurs zu einem neuen Bindungselement in eurer 
 Beziehung wird. Am Ende der Einheit werden die Kinder mit einer liebevollen
  Babymassage verwöhnt. .</p><p>Weitere Infos unter: <a href="https://www.ly
 ma.at/kinder/baby-kurse/rueckbildungsgymnastik-babymassage/">https://www.ly
 ma.at/kinder/baby-kurse/rueckbildungsgymnastik-babymassage/<br /><br /></a>
 </p><p></p><p>(c) Oksana Kuzmina/Shutterstock.com</p>
CONTACT:019093359; office@lyma.at 
X-EXTRAINFO:[preis='14400'][anmeldung='true']
DTSTAMP:20260424T165026
DTSTART:20190410T060000
DTEND:20190410T150000
SEQUENCE:0
RRULE:FREQ=WEEKLY;UNTIL=20190606T000000Z;INTERVAL=1;BYDAY=WE
TRANSP:OPAQUE
END:VEVENT
END:VCALENDAR