BEGIN:VCALENDAR
VERSION:2.0
PRODID:-//jEvents 2.0 for Joomla//EN
CALSCALE:GREGORIAN
METHOD:PUBLISH
BEGIN:VEVENT
UID:c56f3790457ac693c239981b6013583c
CATEGORIES:2. Bezirk
CREATED:20190306T114648
SUMMARY:Babytreff Tabor
LOCATION:Novaragasse 7
DESCRIPTION:Babytreff Tabor\nBabys von 0-3\nNovaragasse 7 im Lokal der Grünen Leopoldst
 adt, direkt gegenüber U2 Taborstraße Ausgang Novaragasse\n
X-ALT-DESC;FMTTYPE=text/html:<p>Babytreff Tabor</p><p>Babys von 0-3</p><p>Novaragasse 7 im Lokal der Grü
 nen Leopoldstadt, direkt gegenüber U2 Taborstraße Ausgang Novaragasse</p>
CONTACT:therese-fuchs@gmx.at
DTSTAMP:20260423T202507
DTSTART:20190311T143000
DTEND:20190311T163000
SEQUENCE:0
TRANSP:OPAQUE
END:VEVENT
END:VCALENDAR