BEGIN:VCALENDAR
VERSION:2.0
PRODID:-//jEvents 2.0 for Joomla//EN
CALSCALE:GREGORIAN
METHOD:PUBLISH
BEGIN:VEVENT
UID:6feaa3cf6194274b6c8398ee888b1c88
CATEGORIES:10. Bezirk
CREATED:20190306T211206
SUMMARY:Eltern & Kinder Disko
LOCATION:Absberggasse 27/Stiege 3/Objekt 19
DESCRIPTION:Lust auf ein Tänzchen? An diesem Samstag wird das Foyer im EG des Objekt19 
 in der Brotfabrik Wien zu den Sounds von DJn Mary zum Wanken gebracht -ohne
  dass das Trommelfell zu platzen droht. Winterstiefel ausziehen und loshüpf
 en! \n\nWer ein Päuschen oder Abwechslung braucht, kann sich am Basteltisch
  künstlerisch austoben oder einfach in der neuen magdas Kantine bei einem K
 affee chillen und trotzdem alles im Überblick behalten.\n\nEinfach vorbeiko
 mmen und mittanzen!\nDie Veranstaltungen im Objekt 19 sind kostenlos, um al
 len Menschen die Teilnahme zu ermöglichen. Alle, die es sich leisten können
 , bitten wir im Sinne einer Umverteilung um freiwillige Teilnahmebeiträge i
 n Form von Spenden: Pay as you can!\n\nIn Kooperation mit\nStand 129\nObjek
 t 19\n&amp; magdas Kantine\n\nAdresse: Absberggasse 27/3 oder Puchsbaumgass
 e 1c,1100 Wien\n
X-ALT-DESC;FMTTYPE=text/html:<p>Lust auf ein Tänzchen? An diesem Samstag wird das Foyer im EG des Objekt
 19 in der Brotfabrik Wien zu den Sounds von DJn Mary zum Wanken gebracht -o
 hne dass das Trommelfell zu platzen droht. Winterstiefel ausziehen und losh
 üpfen! <br /><br />Wer ein Päuschen oder Abwechslung braucht, kann sich am 
 Basteltisch künstlerisch austoben oder einfach in der neuen <em>mag</em>das
  Kantine bei einem Kaffee chillen und trotzdem alles im Überblick behalten.
 <br /><br />Einfach vorbeikommen und mittanzen!</p><p>Die Veranstaltungen i
 m Objekt 19 sind kostenlos, um allen Menschen die Teilnahme zu ermöglichen.
  Alle, die es sich leisten können, bitten wir im Sinne einer Umverteilung u
 m freiwillige Teilnahmebeiträge in Form von Spenden: Pay as you can!<br /><
 br />In Kooperation mit<br /><a href="https://www.facebook.com/stand129/" t
 arget="_blank" rel="noopener noreferrer">Stand 129</a><br /><a href="https:
 //www.facebook.com/Objekt19/" target="_blank" rel="noopener noreferrer">Obj
 ekt 19</a><br />&amp; magdas Kantine<br /><br />Adresse: Absberggasse 27/3 
 oder Puchsbaumgasse 1c,1100 Wien</p>
DTSTAMP:20260424T143131
DTSTART:20190330T140000
DTEND:20190330T170000
SEQUENCE:0
TRANSP:OPAQUE
END:VEVENT
END:VCALENDAR