BEGIN:VCALENDAR
VERSION:2.0
PRODID:-//jEvents 2.0 for Joomla//EN
CALSCALE:GREGORIAN
METHOD:PUBLISH
BEGIN:VEVENT
UID:e6e0572089f26c4108fccd4d6eb95c4f
CATEGORIES:22. Bezirk
CREATED:19700101T010000
SUMMARY:offener Elterntreff
LOCATION:mini-medPRAXIS\, Maria-Tusch-Straße 2\, 1220 Wien
DESCRIPTION:Willkommen sind alle!Schwangeren und Mütter/Väteregal ob stillend oder Flas
 che gebend! Offene Gruppe– eine Anmeldung erforderlich unter –\n(stillberat
 ung@mini-medpraxis.at (mailto:stillberatung@mini-medpraxis.at) oder 0660 77
  527 46)\n \nLiebe Eltern, Großeltern, Schwangere und Interessierte!\n\nIm 
 Elterntreff werden Fragen zum Thema Muttermilchernährung, Stillen und Entwi
 cklung besprochen oder sich auch einfach nur mit anderen Eltern austauschen
 .\nIch freue mich natürlich auch über Geschwister, Großeltern, (schwangere)
  Freundinnen ... - alle am Thema Interessierten!\nNatürlich gibt es auch ei
 ne Wiegemöglichkeit\n\nIch freu mich auf euer kommen!\n\nLeitung:\nKarin Za
 baneh, ausgebildete Stillberaterin und dipl. Kinder-Ordinationsassistentin\
 n(ÖAFS und Europäisches Institut für Stillen und Laktation)\nKontakt: still
 beratung@mini-medpraxis.at (mailto:stillberatung@mini-medpraxis.at)\nFacebo
 ok Veranstaltung (https://www.facebook.com/elterntreffseestadt)\nhttp://www
 .mini-medpraxis.at/ (http://www.mini-medpraxis.at/)\nmit Sammelpass jede 5 
 Einheit geschenkt!\n \n
X-ALT-DESC;FMTTYPE=text/html:<h2 style="text-align: center;"><span style="text-decoration: underline;"><
 strong>Willkommen sind alle!</strong></span></h2><h2 style="text-align: cen
 ter;"><span style="text-decoration: underline;"><strong>Schwangeren und Müt
 ter/Väter</strong></span></h2><h2 style="text-align: center;"><span style="
 text-decoration: underline;"><strong>egal ob stillend oder Flasche gebend!<
 /strong></span></h2><h2 style="text-align: center;"> <strong>Offene Gruppe<
 /strong></h2><p style="text-align: center;"><em><strong>– eine Anmeldung er
 forderlich unter –</strong></em></p><p style="text-align: center;">(<a href
 ="mailto:stillberatung@mini-medpraxis.at">stillberatung@mini-medpraxis.at</
 a> oder 0660 77 527 46)</p><p> </p><div class="_63eu"><div class="_63ew" da
 ta-testid="event-permalink-details">Liebe Eltern, Großeltern, Schwangere un
 d Interessierte!<br /><br />Im Elterntreff werden Fragen zum Thema Muttermi
 lchernährung, Stillen und Entwicklung besprochen oder sich auch einfach nur
  mit anderen Eltern austauschen.<br />Ich freue mich natürlich auch über Ge
 schwister, Großeltern, (schwangere) Freundinnen ... - alle am Thema Interes
 sierten!<br />Natürlich gibt es auch eine Wiegemöglichkeit<br /><br />Ich f
 reu mich auf euer kommen!<br /><br /></div></div><p>Leitung:</p><p>Karin Za
 baneh, ausgebildete Stillberaterin und dipl. Kinder-Ordinationsassistentin<
 /p><p>(ÖAFS und Europäisches Institut für Stillen und Laktation)</p><p>Kont
 akt: <a href="mailto:stillberatung@mini-medpraxis.at">stillberatung@mini-me
 dpraxis.at</a></p><p><a title="offener Elterntreff" href="https://www.faceb
 ook.com/elterntreffseestadt">Facebook Veranstaltung</a></p><p><a title="min
 i-medPRAXIS" href="http://www.mini-medpraxis.at/"><u>http://www.mini-medpra
 xis.at/</u></a></p><p><strong>mit Sammelpass jede 5 Einheit geschenkt!</str
 ong></p><p> </p>
CONTACT:stillberatung@mini-medpraxis.at, 0660 77 527 46, http://www.mini-medpraxis.at 
X-EXTRAINFO:[preis='1000'][anmeldung='true']
DTSTAMP:20260423T164616
DTSTART:20190327T093000
DTEND:20190327T110000
SEQUENCE:0
RRULE:FREQ=WEEKLY;COUNT=9999;INTERVAL=1;BYDAY=WE,WE,WE,WE,WE
TRANSP:OPAQUE
END:VEVENT
END:VCALENDAR