BEGIN:VCALENDAR
VERSION:2.0
PRODID:-//jEvents 2.0 for Joomla//EN
CALSCALE:GREGORIAN
METHOD:PUBLISH
BEGIN:VEVENT
UID:3df4e520c719f66009f35db45901b84b
CATEGORIES:6. Bezirk
CREATED:19700101T010000
SUMMARY:BABYMASSAGE 
LOCATION:6.\, Sandwirtgasse 13/12
DESCRIPTION:Biolino BabymassageBabymassage  (https://www.biolino.at/babymassage/)förder
 t das Urvertrauen deines Babys und sein Wohlbefinden. Sie wirkt entspannend
 , lockernd und beruhigend sowohl auf dein Baby als auch auf dich.\nDas Immu
 nsystem deines Babys wird angeregt und sein ganzer Körper gestärkt - sowohl
  die Muskeln, als auch die Beweglichkeit. Schmerzen von Koliken und den Zäh
 nen können gelindert werden und bei Schnupfen können die richtigen Griffe d
 ein Baby beim “schneuzen” unterstützen. So innig und zärtlich berührt, wird
  sich dein Baby entspannen und einen ruhigeren Schlaf genießen.\n \n4 Diens
 tage: 7., 14., 21., 28. Mai\nJeweils von 13.00 - 14.15 Uhr\nKleine, gemütli
 che Gruppe mit nur 5 TN\nKosten: € 79.-\ninkl. Tee, biologisches Massageöl 
 und kleines Geschenk\nDu erfährst alle wichtigen Grundlagen der Babymassage
   (https://www.biolino.at/babymassage/)und kannst am Ende des Kurses dein B
 aby bei körperlichen und emotionalen Beschwerden unterstützen. Für die Mass
 age wird ein biologisches Öl zur Verfügung gestellt. Du erhältst außerdem e
 in ausführliches Handout mit allen Techniken und Griffen und ein kleines Ge
 schenk.\nNach der Babymassage gibt es genug Zeit und Raum für Austausch unt
 ereinander und die Beantwortung von Fragen.\nBitte bring Folgendes zum Baby
 massagekurs  (https://www.biolino.at/babymassage/)mit:\n\n - ein Handtuch\n
  - eine Wickelunterlage\n - mindestens 2 Stoffwindeln zum Zudecken\n - gemü
 tliche Kleidung für dich, die auch ölig werden darfDie Babymassage ist für 
 Babys ab ca. 4 Wochen, bis zum individuellen Krabbelalter (ca. 6 Monate) ge
 eignet.\n \nHier geht´s zur Anmeldung (https://bit.ly/2TG6doF): https://bit
 .ly/2TG6doF (https://bit.ly/2TG6doF)\n \nWir freuen uns auf eine entspannte
  und gemütliche Babymassage (https://www.biolino.at/babymassage/) mit euch!
 \nAlles Liebe,\nMartina\n
X-ALT-DESC;FMTTYPE=text/html:<h1>Biolino Babymassage</h1><p><a href="https://www.biolino.at/babymassage/
 ">Babymassage </a>fördert das Urvertrauen deines Babys und sein Wohlbefinde
 n. Sie wirkt entspannend, lockernd und beruhigend sowohl auf dein Baby als 
 auch auf dich.</p><p>Das Immunsystem deines Babys wird angeregt und sein ga
 nzer Körper gestärkt - sowohl die Muskeln, als auch die Beweglichkeit. Schm
 erzen von Koliken und den Zähnen können gelindert werden und bei Schnupfen 
 können die richtigen Griffe dein Baby beim “schneuzen” unterstützen. So inn
 ig und zärtlich berührt, wird sich dein Baby entspannen und einen ruhigeren
  Schlaf genießen.</p><p> </p><p>4 Dienstage: 7., 14., 21., 28. Mai</p><p>Je
 weils von 13.00 - 14.15 Uhr</p><p>Kleine, gemütliche Gruppe mit nur 5 TN</p
 ><p>Kosten: € 79.-</p><p>inkl. Tee, biologisches Massageöl und kleines Gesc
 henk</p><p>Du erfährst alle wichtigen Grundlagen der <a href="https://www.b
 iolino.at/babymassage/">Babymassage </a>und kannst am Ende des Kurses dein 
 Baby bei körperlichen und emotionalen Beschwerden unterstützen. Für die Mas
 sage wird ein biologisches Öl zur Verfügung gestellt. Du erhältst außerdem 
 ein ausführliches Handout mit allen Techniken und Griffen und ein kleines G
 eschenk.</p><p>Nach der Babymassage gibt es genug Zeit und Raum für Austaus
 ch untereinander und die Beantwortung von Fragen.</p><p>Bitte bring Folgend
 es zum <a href="https://www.biolino.at/babymassage/">Babymassagekurs </a>mi
 t:</p><ul><li>ein Handtuch</li><li>eine Wickelunterlage</li><li>mindestens 
 2 Stoffwindeln zum Zudecken</li><li>gemütliche Kleidung für dich, die auch 
 ölig werden darf</li></ul><p>Die Babymassage ist für Babys <strong>ab ca. 4
  Wochen, bis zum individuellen Krabbelalter (ca. 6 Monate)</strong> geeigne
 t.</p><p> </p><p>Hier geht´s zur <a href="https://bit.ly/2TG6doF">Anmeldung
 </a>: <a href="https://bit.ly/2TG6doF">https://bit.ly/2TG6doF</a></p><p> </
 p><p><strong>Wir freuen uns auf eine entspannte und gemütliche <a href="htt
 ps://www.biolino.at/babymassage/">Babymassage</a> mit euch!</strong></p><p>
 <strong>Alles Liebe,</strong></p><p><strong>Martina</strong></p>
CONTACT:martina.novak@biolino.at 
X-EXTRAINFO:[preis='7900'][anmeldung='true']
DTSTAMP:20260424T162612
DTSTART:20190507T110000
DTEND:20190507T121500
SEQUENCE:0
RRULE:FREQ=WEEKLY;COUNT=9999;INTERVAL=1;BYDAY=TU,TU,TU,TU,TU
TRANSP:OPAQUE
END:VEVENT
END:VCALENDAR